
BEGIN:VCALENDAR
VERSION:2.0
PRODID:-//wp-events-plugin.com//7.2.3.1//EN
TZID:Europe/Paris
X-WR-TIMEZONE:Europe/Paris
BEGIN:VEVENT
UID:389@spp.asso.fr
DTSTART;TZID=Europe/Paris;VALUE=DATE:20230609
DTEND;TZID=Europe/Paris;VALUE=DATE:20230611
DTSTAMP:20230614T091745Z
URL:https://www.spp.asso.fr/events/ethical-upheaval-creative-upheaval-avec
 -viviane-chetrit-vatine/
SUMMARY:Ethical Upheaval\, Creative Upheaval avec Viviane CHETRIT-VATINE
DESCRIPTION:[pdf-embedder url="https://www.spp.asso.fr/wp-content/uploads/2
 023/06/Brochure-journee-psychanalytique-de-la-SCP_10-juin-2023.pdf" width=
 "100%"]
ATTACH;FMTTYPE=image/jpeg:https://www.spp.asso.fr/wp-content/uploads/2023/
 06/SCP_100623_ima.jpg
CATEGORIES:Colloques
LOCATION:The Professional Centre\, 120 ADELAIDE ST. WEST – SUITE 1900\, T
 ORONTO\, ONTARIO\, M5H 1T1\, Canada
X-APPLE-STRUCTURED-LOCATION;VALUE=URI;X-ADDRESS=120 ADELAIDE ST. WEST – S
 UITE 1900\, TORONTO\, ONTARIO\, M5H 1T1\, Canada;X-APPLE-RADIUS=100;X-TITL
 E=The Professional Centre:geo:0,0
END:VEVENT
BEGIN:VTIMEZONE
TZID:Europe/Paris
X-LIC-LOCATION:Europe/Paris
BEGIN:DAYLIGHT
DTSTART:20230326T030000
TZOFFSETFROM:+0100
TZOFFSETTO:+0200
TZNAME:CEST
END:DAYLIGHT
END:VTIMEZONE
END:VCALENDAR