
BEGIN:VCALENDAR
VERSION:2.0
PRODID:-//wp-events-plugin.com//7.2.3.1//EN
TZID:Europe/Paris
X-WR-TIMEZONE:Europe/Paris
BEGIN:VEVENT
UID:686@spp.asso.fr
DTSTART;TZID=Europe/Paris:20260410T000000
DTEND;TZID=Europe/Paris:20260503T000000
DTSTAMP:20260401T091528Z
URL:https://www.spp.asso.fr/events/freud-dernier-combat-1934-vienne/
SUMMARY:FREUD\, DERNIER COMBAT - 1934\, Vienne
DESCRIPTION:\nRENSEIGNEMENTS ET RÉSERVATIONS
ATTACH;FMTTYPE=image/jpeg:https://www.spp.asso.fr/wp-content/uploads/2026/
 03/AGENDA_les-rdv-du-Centenaire-de-la-SPP_2026-scaled.jpeg
CATEGORIES:Conférences
LOCATION:Théâtre La Reine Blanche — Scène des Arts et des Sciences\, 2
  bis passage Ruelle\, Paris\, 75018\, France
X-APPLE-STRUCTURED-LOCATION;VALUE=URI;X-ADDRESS=2 bis passage Ruelle\, Pari
 s\, 75018\, France;X-APPLE-RADIUS=100;X-TITLE=Théâtre La Reine Blanche 
 — Scène des Arts et des Sciences:geo:0,0
END:VEVENT
BEGIN:VTIMEZONE
TZID:Europe/Paris
X-LIC-LOCATION:Europe/Paris
BEGIN:DAYLIGHT
DTSTART:20260329T030000
TZOFFSETFROM:+0100
TZOFFSETTO:+0200
TZNAME:CEST
END:DAYLIGHT
END:VTIMEZONE
END:VCALENDAR