
BEGIN:VCALENDAR
VERSION:2.0
PRODID:-//wp-events-plugin.com//7.2.3.1//EN
TZID:Europe/Paris
X-WR-TIMEZONE:Europe/Paris
BEGIN:VEVENT
UID:365@spp.asso.fr
DTSTART;TZID=Europe/Paris;VALUE=DATE:20230311
DTEND;TZID=Europe/Paris;VALUE=DATE:20230313
DTSTAMP:20230313T164025Z
URL:https://www.spp.asso.fr/events/gerpen-dire-lindicible-paroles-et-silen
 ces-dans-la-psychanalyse-de-lenfant/
SUMMARY:GERPEN — Dire l’indicible. Paroles et silences dans la psychana
 lyse de l’enfant
DESCRIPTION:[pdf-embedder url="https://www.spp.asso.fr/wp-content/uploads/2
 023/02/programme-Gerpen_S-Korff-Sausse_2023.pdf" width="100%"]
ATTACH;FMTTYPE=image/jpeg:https://www.spp.asso.fr/wp-content/uploads/2023/
 02/programme-Gerpen_S-Korff-Sausse_2023-1.jpg
CATEGORIES:Colloques
LOCATION:ASIEM\, 6\, Rue Albert de Lapparent\, Paris\, 75007\, France
GEO:48.84832;2.308172
X-APPLE-STRUCTURED-LOCATION;VALUE=URI;X-ADDRESS=6\, Rue Albert de Lapparent
 \, Paris\, 75007\, France;X-APPLE-RADIUS=100;X-TITLE=ASIEM:geo:48.84832,2.
 308172
END:VEVENT
BEGIN:VTIMEZONE
TZID:Europe/Paris
X-LIC-LOCATION:Europe/Paris
BEGIN:STANDARD
DTSTART:20221030T020000
TZOFFSETFROM:+0200
TZOFFSETTO:+0100
TZNAME:CET
END:STANDARD
END:VTIMEZONE
END:VCALENDAR