
BEGIN:VCALENDAR
VERSION:2.0
PRODID:-//wp-events-plugin.com//7.2.3.1//EN
TZID:Europe/Paris
X-WR-TIMEZONE:Europe/Paris
BEGIN:VEVENT
UID:454@spp.asso.fr
DTSTART;TZID=Europe/Paris:20240318T203000
DTEND;TZID=Europe/Paris:20240318T220000
DTSTAMP:20240319T215556Z
URL:https://www.spp.asso.fr/events/gnspp-conference-etre-attentif-a-la-nat
 ure-et-a-la-qualite-des-reves-de-nos-patients-par-philippe-givre/
SUMMARY:GNSPP : Conférence "Être attentif à la nature et à la qualité 
 des rêves de nos patients" par Philippe Givre
DESCRIPTION:ARGUMENT\n\nNos souffrances et nos tourments psychiques ne sont
  pas sans lien avec la nature et la qualité de ce que peuvent véhiculer 
 nos rêves et nos fantasmes\, au point que certains symptômes ou certaine
 s conduites psychopathologiques puissent être l’expression de ces rêve
 s limites qui n’ont pu être véritablement rêvés. Or\, que se passe-t
 -il lorsque se produit une mise à mal de la fonction onirique\, au point 
 que celle-ci empêche la décharge de tension par la satisfaction hallucin
 atoire ? Comment la psyché peut-elle alors composer pour évacuer ses te
 nsions libidinales et agressives ? Se trouve-t-elle acculée à émettre\
 , régressivement des signaux somatopsychiques\, infraverbaux et archaïqu
 es\, pour sauver le moi d’une forme de désagrégation\, voire d’une m
 ort psychique ? Quelles voies la psyché adopte pour évacuer ses tension
 s sans paroles ? Là où le rêve dans sa structuration « névrotique 
 » permet au sujet d’halluciner en toute santé\, que se passe-t-il lors
 que cette liberté\, acquise par la structuration de l’écran du rêve\,
  se trouve compromise par des défaillances lors de la structuration de ce
 t espace projectif ? Si les textes freudiens ont pu nous éclairer grande
 ment sur les fonctions de la vie onirique dans la vie psychique\, ils n’
 apportent pas réellement de points de repères pour être en mesure d’i
 dentifier les différentes modalités de construction et de figurabilité 
 dans nos productions oniriques. En s’appuyant sur les travaux d’auteur
 s post-freudiens\, notre propos visera à expliciter davantage ce qui fait
  les spécificités respectives des rêvasseries\, des rêves traumatiques
 \, des rêves borderline\, des rêves mélancoliques\, des rêves blancs\,
  ... le repérage clinique de ces différences étant susceptible de nous 
 éclairer sur les modalités de fonctionnement psychique et les distorsion
 s psychopathologiques vécues par nos patients.\n\nPour vous inscrire\, no
 us vous remercions de nous contacter à l’adresse suivante contact@group
 enord-spp.fr\n\nParticipation aux frais 10 € (gratuit pour les étudiant
 s).
ATTACH;FMTTYPE=image/jpeg:https://www.spp.asso.fr/wp-content/uploads/2024/
 02/Groupe-Nord-Philippe-Givre_2024.jpg
CATEGORIES:Conférences,Groupe Nord - Pas de Calais
LOCATION:Salle URIOPSS Lille\, 199-201 rue Colbert\, Bâtiment Douai\, 5e 
 étage\, Lille\, 59800\, Haut de France\, France
GEO:50.634414;3.04109
X-APPLE-STRUCTURED-LOCATION;VALUE=URI;X-ADDRESS=199-201 rue Colbert\, Bâti
 ment Douai\, 5e étage\, Lille\, 59800\, Haut de France\, France;X-APPLE-R
 ADIUS=100;X-TITLE=Salle URIOPSS Lille:geo:50.634414,3.04109
END:VEVENT
BEGIN:VTIMEZONE
TZID:Europe/Paris
X-LIC-LOCATION:Europe/Paris
BEGIN:STANDARD
DTSTART:20231029T020000
TZOFFSETFROM:+0200
TZOFFSETTO:+0100
TZNAME:CET
END:STANDARD
END:VTIMEZONE
END:VCALENDAR