
BEGIN:VCALENDAR
VERSION:2.0
PRODID:-//wp-events-plugin.com//7.2.3.1//EN
TZID:Europe/Paris
X-WR-TIMEZONE:Europe/Paris
BEGIN:VEVENT
UID:213@spp.asso.fr
DTSTART;TZID=Europe/Paris:20210327T083000
DTEND;TZID=Europe/Paris:20210327T170000
DTSTAMP:20210403T131814Z
URL:https://www.spp.asso.fr/events/groupe-toulousain-penser-la-fin-du-mond
 e/
SUMMARY:Groupe toulousain - Penser la fin du monde
DESCRIPTION:XXXIIIème JOURNEE ANNUELLE\nDU GROUPE TOULOUSAIN (GT)\nDE LA S
 OCIÉTÉ PSYCHANALYTIQUE DE PARIS (SPP)\nPENSER LA FIN DU MONDE\nOrganisat
 ion scientifique\nBernard Bensidoun\, Catherine Bruni\, Jean-Baptiste Deth
 ieux\npar visio-conférence ou Salle Osète\, 6 rue du Lieutenant-Colonel 
 Pélissier à Toulouse\n\n&nbsp\;\nProgramme\nMatinée : Président de sé
 ance\, Daniel Metge\n\n8h30 Accueil des participants\n9h00 Introduction de
  la journée : Daniel Metge\n9h15 Culture apocalyptique et imaginaires de 
 la fin du monde Bertrand Vidal\n10h00 La fin des temps\, le temps de la fi
 n Marc Babonneau\n\n10h45 Pause \n\n11H15 Fin du monde et auto-engendremen
 t Elisabeth Castells-Mourier\n11h45 Table ronde\n\n\n12h30 Déjeuner libre
  \n\nAprès-midi : Présidente de séance\, Clarisse Baruch\n\n14h30 Stupe
 ur et confinement Geneviève Record\n15h00 De la catastrophe existentielle
  de la fin du monde au cosmos psychotique : pour un usage pondéré de la 
 crainte de l’effondrement. Martine Girard\n15h45 Table ronde\n16h30 Le m
 ot de la fin : Jean-Baptiste Dethieux\n\n16h45 Clôture de la journée \n\
 n&nbsp\;\nArgument\nL’idée de fin du monde traverse l’histoire humain
 e depuis des millénaires.\nAujourd’hui\, une nouvelle catastrophe est a
 nnoncée révélant la nocivité de l’homme envers son environnement qui
  pourrait provoquer l’effondrement de la biosphère jusqu’à entraîne
 r la disparition de sa propre espèce.\nCe funeste message\, porté\, dém
 ultiplié\, par les nouveaux moyens de communication\, a généré des cou
 rants de pensée tels que le survivalisme ou la collapsologie…\nCes mouv
 ements ont-ils un lien avec la complexité du monde moderne\, sa difficile
  intelligibilité ?\nCette idée de fin du monde répond-elle à une quêt
 e de sens ? Au sentiment de culpabilité inhérent à l’être humain ? A
 u besoin de punition mis en exergue par Freud ?\nDe jeunes gens et des moi
 ns jeunes viennent nous voir\, habités par une sorte de désenchantement\
 , en mal de projet d’avenir\, d’idéal de vie témoignant d’un effri
 tement de la confiance dans l’environnement et du sentiment d’apparten
 ance au socius.\nL’aire transitionnelle au sens de Winnicott\, c’est 
 à dire cet espace de culture et de créativité donnant la sensation de f
 aire partie intégrante du monde\, se serait-elle réduite à une peau de 
 chagrin ?\nFreud nous alertait dans Malaise dans la culture en 1929 : « L
 a question décisive pour le destin de l’espèce humaine me semble être
  de savoir si\, et dans quelle mesure\, son développement culturel réuss
 ira à se rendre maître de la perturbation apportée à la vie en commun 
 par l’humaine pulsion d’agression et d’anéantissement ».\nNous sav
 ons bien le génie de l’homme à se mettre en position de soutenir le pe
 ssimisme freudien dans la réalité… Quand ce n’est pas le cas\, faudr
 ait-il que nous donnions consistance à la destructivité qui nous habite 
 en la projetant dans un avenir voué à sa perte ?\nAlors\, comment en tan
 t qu’analyste penser l’impensable ?\nPenser la fin du monde comme la f
 in d’un monde ? Celui de l’enfant confronté à la perte de sa toute p
 uissance\, celui de l’adolescent soumis à une désillusion radicale\, c
 elui de l’adulte devenu qui se dit « à quoi bon vivre » face à la mo
 rt du monde\, face à sa propre mort aléatoire ou annoncée ? Entre castr
 ation\, culpabilité oedipienne et mélancolie…\nDoit-on chercher dans l
 es traumas infantiles le germe de cette fin du monde ? « La crainte d’u
 n effondrement » qui aurait déjà eu lieu (Winnicott) ? La carence d’u
 ne liaison narcissique essentielle dont on ne pourrait se représenter le 
 manque\, trauma en négatif (Botella) ? La fixation à une position schizo
 -paranoïde de la petite enfance (Mélanie Klein) ? Comment supporter\, é
 laborer\, dépasser\, cette sensation de catastrophe imminente ?\nAu cours
  de cette journée nous espérons que l’éclairage de la psychanalyse no
 us aidera à saisir de quelle manière notre psychisme peut se nourrir de 
 cette idée de fin du monde… pour y survivre !\n\n&nbsp\;\nIntervenants\
 nMarc Babonneau : Psychanalyste\, Toulouse\nClarisse Baruch : Psychanalyst
 e\, Présidente de la SPP\, Paris\nElisabeth Castells-Mourier : Psychanaly
 ste\, SPP\, Toulouse\nJean-Baptiste Dethieux: Psychanalyste\, SPP\, Toulou
 se\nMartine Girard : Psychanalyste\, SPP\, Toulouse\nDaniel Metge : Psycha
 nalyste\, Président du Groupe Toulousain de la SPP\nGeneviève Record : P
 sychanalyste\, SPP\, Toulouse\nBertrand Vidal : Sociologue\, Université P
 aul Valéry\, Montpellier \n\n&nbsp\;\nINSCRIPTION Penser la fin du monde 
 – 27 mars 2021 \nInscription et paiement en ligne sur www.psychanalyseto
 ulouse.fr \n\nTARIFS\n\nTarif normal: 50 € (Inscription à la journée)\
 nTarif réduit: Etudiants\, demandeurs d’emploi: 25 € (avec justificat
 if)\nInscription + actes de la journée + frais de port: 65 € (40 € ta
 rif réduit)\n\nEn fonction des conditions sanitaires\, la journée se dé
 roulera par visio-conférence ou Salle Osète\, 6 rue du Lieutenant-Colone
 l Pélissier à Toulouse.\n\nL’information sera disponible sur le site w
 ww.psychanalysetoulouse.fr à partir du 1er Mars 2021.
ATTACH;FMTTYPE=image/jpeg:https://www.spp.asso.fr/wp-content/uploads/2021/
 02/Visuel_Groupe_toulousain_2021.png
CATEGORIES:Colloques,Groupe Toulousain,Province
LOCATION:Salle Osète\, 6 rue du Lieutenant-Colonel Pélissier\, Toulouse\,
  France
GEO:43.603291;1.446263
X-APPLE-STRUCTURED-LOCATION;VALUE=URI;X-ADDRESS=6 rue du Lieutenant-Colonel
  Pélissier\, Toulouse\, France;X-APPLE-RADIUS=100;X-TITLE=Salle Osète:ge
 o:43.603291,1.446263
END:VEVENT
BEGIN:VTIMEZONE
TZID:Europe/Paris
X-LIC-LOCATION:Europe/Paris
BEGIN:STANDARD
DTSTART:20201025T020000
TZOFFSETFROM:+0200
TZOFFSETTO:+0100
TZNAME:CET
END:STANDARD
END:VTIMEZONE
END:VCALENDAR