
BEGIN:VCALENDAR
VERSION:2.0
PRODID:-//wp-events-plugin.com//7.2.3.1//EN
TZID:Europe/Paris
X-WR-TIMEZONE:Europe/Paris
BEGIN:VEVENT
UID:630@spp.asso.fr
DTSTART;TZID=Europe/Paris:20260706T000000
DTEND;TZID=Europe/Paris:20260708T000000
DTSTAMP:20251014T181430Z
URL:https://www.spp.asso.fr/events/isps-2026-lausanne-back-to-the-future-i
 nspired-by-pioneers/
SUMMARY:ISPS 2026 Lausanne « Back to the future inspired by pioneers »
DESCRIPTION:[pdf-embedder url="https://www.spp.asso.fr/wp-content/uploads/2
 025/10/ISP26.KOM_.LAUSANNE.png.pdf" title="ISP26 LAUSANNE - Back to the fu
 ture inspired by pioneers " width="100%"]\n\n&nbsp\;
ATTACH;FMTTYPE=image/jpeg:https://www.spp.asso.fr/wp-content/uploads/2025/
 10/ISP26.KOM_.LAUSANNE.jpg
CATEGORIES:Colloques
LOCATION:\, \, France
X-APPLE-STRUCTURED-LOCATION;VALUE=URI;X-ADDRESS=\, France;X-APPLE-RADIUS=10
 0;X-TITLE=:geo:0,0
END:VEVENT
BEGIN:VTIMEZONE
TZID:Europe/Paris
X-LIC-LOCATION:Europe/Paris
BEGIN:DAYLIGHT
DTSTART:20260329T030000
TZOFFSETFROM:+0100
TZOFFSETTO:+0200
TZNAME:CEST
END:DAYLIGHT
END:VTIMEZONE
END:VCALENDAR