
BEGIN:VCALENDAR
VERSION:2.0
PRODID:-//wp-events-plugin.com//7.2.3.1//EN
TZID:Europe/Paris
X-WR-TIMEZONE:Europe/Paris
BEGIN:VEVENT
UID:112@spp.asso.fr
DTSTART;TZID=Europe/Paris:20190330T091500
DTEND;TZID=Europe/Paris:20190330T163000
DTSTAMP:20190331T051648Z
URL:https://www.spp.asso.fr/events/journee-2019-de-ladtfa-j-p-caillot-la-p
 aradoxalite-familiale/
SUMMARY:Journée  2019 de l'ADTFA - J.-P. Caillot\, La paradoxalité famili
 ale
DESCRIPTION:Première Journée théorico-clinique 2019\nde l'ADTFA\nAssocia
 tion pour le Développement de la Thérapie Familiale psychAnalytique\nLa 
 paradoxalité familiale\nJ.-P. Caillot\nSamedi 30 mars 2019\n9h15 - 12h15 
 et  14h15 - 16h30\nSalle de l’Auditorium\nCentre Hospitalier Montperrin
 \n109 Avenue du Petit Barthélémy\n13090 Aix en Provence\n\nProgramme \n\
 nMatinée :\n08h45-09h15 : inscriptions et accueil\n09h15-12h15 : interven
 tion du Dr J.-P. CAILLOT\, « La Paradoxalité Familiale »\n\n12h15 -14h
 15 : Déjeuner libre\n\nAprès-midi :\n14h15-16h30 : Intervention de Mme S
 égolène De Villers\nPrésentation clinique : « Ma femme est folle » :
  paradoxalité sur le plan individuel\, dans le lien de couple et au sei
 n de l'Institution.\n- Discutante : Mme Nicole TALIANA\n- Modératrice : M
 me Marie KONICHECKIS\n\ntélécharger le programme et le bulletin d'inscri
 ption\n\nArgument \n\nIl existe deux types de paradoxalité : l’une ouve
 rte renvoie à la paradoxalité normale\, à la transitionnalité de Winn
 icott\, l’autre fermée désigne la paradoxalité pathologique corrél
 ative de l’incestualité familiale traumatique.\nNous apporterons de nom
 breux exemples cliniques issus de séances de Consultation Familiale\, de
  Psychodrame de Groupe et de Thérapie Familiale Psychanalytique pour il
 lustrer ces formes de la paradoxalité\, le meurtriel\, l’incestuel et 
 la perversion narcissique.\n\nJean-Pierre CAILLOT est psychiatre\, psychan
 alyste (membre adhérent honoraire du Groupe Méditerranéen de la SPP)\,
  co-fondateur du Collège de Psychanalyse Groupale et Familiale et de l
 ’Académie Psychanalytique Autour de l’Œuvre de Racamier (autourdera
 camier.com).\n\nMarie KONICHECKIS est psychologue clinicienne\, psychanaly
 ste\, membre de la SPP et ADTFA.\n\nNicole TALIANA est cadre infirmière 
 en psychiatrie\, thérapeute familiale\, membre ADTFA et SFTFP.\n\nLectur
 es conseillées :\n\n- Caillot J-P\, Le meurtriel\, l’incestuel et le tr
 aumatique\, Paris\, Dunod\, 2015\n- Hurni M. et Stoll G.\, La haine de l
 ’amour. La perversion du lien\, Paris\, l’Harmattan\, 1996\n- Racamie
 r P-C\, Les schizophrènes\, Paris\, Payot\, 1979\n- Racamier P-C\, L’in
 ceste et l’incestuel\, Dunod\,1995
ATTACH;FMTTYPE=image/jpeg:https://www.spp.asso.fr/wp-content/uploads/2019/
 03/ADTFA_Première_journee_2019.jpg
CATEGORIES:Colloques,Conférences,Province
LOCATION:Salle de l’Auditorium\, Centre Hospitalier Montperrin\, 109 Aven
 ue du Petit Barthélémy \, 13090 Aix en Provence\, France
GEO:43.5210017;5.44001609999998
X-APPLE-STRUCTURED-LOCATION;VALUE=URI;X-ADDRESS=109 Avenue du Petit Barthé
 lémy \, 13090 Aix en Provence\, France;X-APPLE-RADIUS=100;X-TITLE=Salle d
 e l’Auditorium\, Centre Hospitalier Montperrin:geo:43.5210017,5.44001609
 999998
END:VEVENT
BEGIN:VTIMEZONE
TZID:Europe/Paris
X-LIC-LOCATION:Europe/Paris
BEGIN:STANDARD
DTSTART:20181028T020000
TZOFFSETFROM:+0200
TZOFFSETTO:+0100
TZNAME:CET
END:STANDARD
END:VTIMEZONE
END:VCALENDAR