
BEGIN:VCALENDAR
VERSION:2.0
PRODID:-//wp-events-plugin.com//7.2.3.1//EN
TZID:Europe/Paris
X-WR-TIMEZONE:Europe/Paris
BEGIN:VEVENT
UID:32@spp.asso.fr
DTSTART;TZID=Europe/Paris;VALUE=DATE:20190406
DTEND;TZID=Europe/Paris;VALUE=DATE:20190407
DTSTAMP:20180708T153813Z
URL:https://www.spp.asso.fr/events/journee-annuelle-du-gtspp/
SUMMARY:Journée Annuelle du GTSPP
DESCRIPTION:« Le masochisme au service de la vie psychique »\nSamedi 06
  avril 2019\navec Denys RIBAS
CATEGORIES:Groupe Toulousain,Province
LOCATION:Salle du Sénéchal - Toulouse\, 17 rue de Rémusat\, Toulouse\, 3
 1000\, Groupe Toulousain\, France
GEO:43.6060053;1.4443330000000287
X-APPLE-STRUCTURED-LOCATION;VALUE=URI;X-ADDRESS=17 rue de Rémusat\, Toulou
 se\, 31000\, Groupe Toulousain\, France;X-APPLE-RADIUS=100;X-TITLE=Salle d
 u Sénéchal - Toulouse:geo:43.6060053,1.4443330000000287
END:VEVENT
BEGIN:VTIMEZONE
TZID:Europe/Paris
X-LIC-LOCATION:Europe/Paris
BEGIN:DAYLIGHT
DTSTART:20190331T030000
TZOFFSETFROM:+0100
TZOFFSETTO:+0200
TZNAME:CEST
END:DAYLIGHT
END:VTIMEZONE
END:VCALENDAR