
BEGIN:VCALENDAR
VERSION:2.0
PRODID:-//wp-events-plugin.com//7.2.3.1//EN
TZID:Europe/Paris
X-WR-TIMEZONE:Europe/Paris
BEGIN:VEVENT
UID:204@spp.asso.fr
DTSTART;TZID=Europe/Paris:20201128T133000
DTEND;TZID=Europe/Paris:20201128T180000
DTSTAMP:20201130T131206Z
URL:https://www.spp.asso.fr/events/journee-detude-de-laeppc-soma-psyche/
SUMMARY:Journée d’étude de l'AEPPC : Soma-Psyché
DESCRIPTION:\nAssociation pour l’Enseignement de la Psychothérapie Psych
 analytique Corporelle (Relaxation Ajuriaguerra)\n\n\nJournée d’étude\n
 Soma-Psyché\n\nInvitée Dominique BOURDIN \n\n\nSamedi 28 Novembre 2020\
 n\n\nà l’ASM13\nAssociation de Santé Mentale du 13ème Arrondissement
 ) Entrée : 76 avenue d’Edison – 75013 PARIS Salle René Diatkine –
  1er étage\n\n\n\n\nOu le cas échéant en Webinar Zoom\n\n\n\nPROGRAMME
 \n\n\n\n\n13h30 : Accueil (Inscription impossible sur place)\n14h00 : Ouve
 rture de la journée par  (Président de l’AEPPC) (SPP)\n14h15 : « Co
 rps\, Psyché » A. GRAND-LE BEC (AEPPC-SPP) et N. KHOURI (AEPPC-SPP) 14h
 45 : « La créativité des défenses primaires » D. BOURDIN (SPP)\n15h
 15 : Discussion\n15h45 : PAUSE\n16h15 : « Baptiste ou la quête d’un s
 oi authentique » C. PELISSIER (AEPPC-SPP)\n17h : Introduction à la tabl
 e Ronde:« Défenses primaires/Perception » E. THOMAS (SPP) 17h15 : Tab
 le ronde.\nDiscutants : D. BOURDIN (SPP)\, M. DECHAUD FERBUS (AEPPC-SPP)\,
 \nB. PACQUEMENT (AEPPC-SPF)\, A. THOME-RENAULT (AEPPC-SPP)\n18h00 : Fin de
  la journée\n\n\n\n\nFrais d’organisation : 50€ (voir bulletin d’in
 scription joint)\n\n\n\n\nPort du masque obligatoire et respect des règle
 s sanitaires liées à la COVID 19. Si la situation sanitaire ne rend plus
  possible la tenue de la journée en présentiel\, un webinar Zoom sera or
 ganisé\, un code d’accès sera adressé aux participants inscrits. Il 
 suffira de se connecter avec un ordinateur sur Zoom ou avec l’applicatio
 n zoom pour votre tablette ou téléphone et d’activer le code. Il vous 
 sera possible d’intervenir et de poser des questions.\n\n\n\n\nRenseigne
 ments : Michèle Bernard Elek 06.76.92.83.80 - Stephanie Azoulay 06.82.63.
 64.38\n\nTélécharger le bulletin d'inscription\n\n\n\n\nSiège Social de
  l’AEPPC :\nCentre de Psychanalyse et de Psychothérapie J.et E. Kestemb
 erg\,\n11 rue Albert Bayet - 75013 Paris - Site de l'association : www.ae
 ppc.asso.fr \n\n
ATTACH;FMTTYPE=image/jpeg:https://www.spp.asso.fr/wp-content/uploads/2020/
 10/Visuel_AEPPC_nov._2020.png
CATEGORIES:Colloques,Paris
LOCATION:ASM 13\, 76\, AVENUE EDISON\,  75013 PARIS\, France
GEO:48.8304037;2.358436900000015
X-APPLE-STRUCTURED-LOCATION;VALUE=URI;X-ADDRESS=76\, AVENUE EDISON\,  75013
  PARIS\, France;X-APPLE-RADIUS=100;X-TITLE=ASM 13:geo:48.8304037,2.3584369
 00000015
END:VEVENT
BEGIN:VTIMEZONE
TZID:Europe/Paris
X-LIC-LOCATION:Europe/Paris
BEGIN:STANDARD
DTSTART:20201025T020000
TZOFFSETFROM:+0200
TZOFFSETTO:+0100
TZNAME:CET
END:STANDARD
END:VTIMEZONE
END:VCALENDAR