
BEGIN:VCALENDAR
VERSION:2.0
PRODID:-//wp-events-plugin.com//7.2.3.1//EN
TZID:Europe/Paris
X-WR-TIMEZONE:Europe/Paris
BEGIN:VEVENT
UID:690@spp.asso.fr
DTSTART;TZID=Europe/Paris;VALUE=DATE:20260612
DTEND;TZID=Europe/Paris;VALUE=DATE:20260613
DTSTAMP:20260421T095107Z
URL:https://www.spp.asso.fr/events/journee-detude-du-gercpea-lenfant-et-so
 n-traumatisme-le-chaud-et-le-froid/
SUMMARY:Journée d'étude du GERCPEA « L'enfant et son traumatisme... Le c
 haud et le froid »
DESCRIPTION:[pdf-embedder url="https://www.spp.asso.fr/wp-content/uploads/2
 026/04/GERCPEA-Journee-detude-12-juin-2026.pdf" title="GERCPEA Journée d
 'étude 12 juin 2026" width="100%"]\nINSCRIPTION
ATTACH;FMTTYPE=image/jpeg:https://www.spp.asso.fr/wp-content/uploads/2026/
 04/GERCPEA-Journee-detude-12-juin-2026.jpg
CATEGORIES:Colloques
LOCATION:Maison d'Accueil des Soeurs Franciscaines\, 50 rue Gaston Diderich
 \, Luxembourg\, L-1011\, Luxembourg
X-APPLE-STRUCTURED-LOCATION;VALUE=URI;X-ADDRESS=50 rue Gaston Diderich\, Lu
 xembourg\, L-1011\, Luxembourg;X-APPLE-RADIUS=100;X-TITLE=Maison d'Accueil
  des Soeurs Franciscaines:geo:0,0
END:VEVENT
BEGIN:VTIMEZONE
TZID:Europe/Paris
X-LIC-LOCATION:Europe/Paris
BEGIN:DAYLIGHT
DTSTART:20260329T030000
TZOFFSETFROM:+0100
TZOFFSETTO:+0200
TZNAME:CEST
END:DAYLIGHT
END:VTIMEZONE
END:VCALENDAR