
BEGIN:VCALENDAR
VERSION:2.0
PRODID:-//wp-events-plugin.com//7.2.3.1//EN
TZID:Europe/Paris
X-WR-TIMEZONE:Europe/Paris
BEGIN:VEVENT
UID:338@spp.asso.fr
DTSTART;TZID=Europe/Paris;VALUE=DATE:20230325
DTEND;TZID=Europe/Paris;VALUE=DATE:20230326
DTSTAMP:20230326T160711Z
URL:https://www.spp.asso.fr/events/journee-hommage-a-francoise-coblence-le
 s-attraits-du-sensible/
SUMMARY:Journée Hommage à Françoise Coblence : LES ATTRAITS DU SENSIBLE
DESCRIPTION:LES ATTRAITS DU SENSIBLE\nComité d'organisation : Clarisse Bar
 uch\, Paul Denis\, Jacques André\, Jean-Louis Baldacci\, Évelyne Chauvet
 \,\nEmmanuelle Chervet\, Aline Cohen de Lara\,  Laurence Kahn\, Vassilis 
 Kapsambélis\nEn présence\, à l'Association du Quartier Notre-Dame-des-C
 hamps\, 92bis\, Bd du Montparnasse\, 75014 Paris\nINSCRIPTIONS SUR LA BOUT
 IQUE SPP\n\n\n\n\n\n\nFrançoise Coblence nous a quittés fin juillet 20
 21\, nous n’en avons pas fini d’éprouver son absence\, et la perte p
 our notre vie scientifique et institutionnelle.\n\nUn temps d’hommage s
 ’imposait\, qui soit fidèle à son exigence de travail et à la sens
 ibilité qui l’animait. Pour le préparer\, nous avons tenté d’exp
 lorer la diversité de ses intérêts\, de ses engagements\, de ses ami
 tiés\, d’en découvrir l’étendue et la profondeur. Nous avons ess
 ayé de les faire dialoguer au sein de chaque séquence de la journée\
 , dans une démarche transverse qui lui était familière. Mais il ne s
 ’agit que de quelques visages\, quelques thèmes\, quelques liens\, lai
 ssant à son intimité discrète bien des ressources.\n\n\n\n\n\nProgra
 mme\nTélécharger le programme\nMATIN\n\n8h30 — Accueil\n9h00 — Intro
 duction et présidence matinée : Clarisse Baruch\n\n9h45-10h45 —Attract
 ion et détours : une pensée transverse\nModération Emmanuelle Chervet\n
 - Laurence Kahn\n- Michel Granek\n- Évelyne Chauvet\n11h15-13h00 — Psyc
 hé est corporelle\nModération Aline Cohen de Lara\n- Paul Denis\n- Cathe
 rine Chabert\nDanièle Cohn et Évelyne Toussaint\n\nAPRÈS-MIDI\n\n14h30 
 — Introduction et modération après-midi : Vassilis Kapsambélis\n14h45
 -16h30 — Écriture et présence analytique\n- Jacques André\n- Corinne 
 Enaudeau\n- Catherine Ducarre\n- Emmanuelle Sabouret\nEt un mot de Michèl
 e Pollack-Cornillot\n\n16h30-17h00 — Intervention de reprise : Jean-Loui
 s Baldacci\nTarifs\nPlein tarif : 60€ — Étudiant : 10€
ATTACH;FMTTYPE=image/jpeg:https://www.spp.asso.fr/wp-content/uploads/2022/
 07/Colloque-Hommage_F.COBLENCE_ima.jpg
CATEGORIES:Colloques,SPP Paris
LOCATION:Association Quartier Notre-Dame des Champs\, 92 bis bd du Montparn
 asse\, Paris\, France
GEO:48.8426986;2.3268861000000243
X-APPLE-STRUCTURED-LOCATION;VALUE=URI;X-ADDRESS=92 bis bd du Montparnasse\,
  Paris\, France;X-APPLE-RADIUS=100;X-TITLE=Association Quartier Notre-Dame
  des Champs:geo:48.8426986,2.3268861000000243
END:VEVENT
BEGIN:VTIMEZONE
TZID:Europe/Paris
X-LIC-LOCATION:Europe/Paris
BEGIN:STANDARD
DTSTART:20221030T020000
TZOFFSETFROM:+0200
TZOFFSETTO:+0100
TZNAME:CET
END:STANDARD
END:VTIMEZONE
END:VCALENDAR