
BEGIN:VCALENDAR
VERSION:2.0
PRODID:-//wp-events-plugin.com//7.2.3.1//EN
TZID:Europe/Paris
X-WR-TIMEZONE:Europe/Paris
BEGIN:VEVENT
UID:281@spp.asso.fr
DTSTART;TZID=Europe/Paris:20220402T133000
DTEND;TZID=Europe/Paris:20220402T183000
DTSTAMP:20220429T083901Z
URL:https://www.spp.asso.fr/events/journee-scientifique-2022-du-centre-de-
 psychanalyse-henri-danon-boileau/
SUMMARY:Journée scientifique 2022 du Centre de Psychanalyse Henri Danon-Bo
 ileau
DESCRIPTION:[pdf-embedder url="https://www.spp.asso.fr/wp-content/uploads/2
 022/02/Programme_02.04.22.pdf" title="Programme Danon-Boileau02.04.22" wid
 th="100%"]
ATTACH;FMTTYPE=image/jpeg:https://www.spp.asso.fr/wp-content/uploads/2022/
 02/danon-boileau_02.04.22.jpg
CATEGORIES:Conférences
LOCATION:ancienne Mairie de Sceaux\, 68 rue Houdan\, 92330 Sceaux\, France
GEO:48.7772729;2.2957691000000295
X-APPLE-STRUCTURED-LOCATION;VALUE=URI;X-ADDRESS=68 rue Houdan\, 92330 Sceau
 x\, France;X-APPLE-RADIUS=100;X-TITLE=ancienne Mairie de Sceaux:geo:48.777
 2729,2.2957691000000295
END:VEVENT
BEGIN:VTIMEZONE
TZID:Europe/Paris
X-LIC-LOCATION:Europe/Paris
BEGIN:DAYLIGHT
DTSTART:20220327T030000
TZOFFSETFROM:+0100
TZOFFSETTO:+0200
TZNAME:CEST
END:DAYLIGHT
END:VTIMEZONE
END:VCALENDAR