
BEGIN:VCALENDAR
VERSION:2.0
PRODID:-//wp-events-plugin.com//7.2.3.1//EN
TZID:Europe/Paris
X-WR-TIMEZONE:Europe/Paris
BEGIN:VEVENT
UID:419@spp.asso.fr
DTSTART;TZID=Europe/Paris:20231125T090000
DTEND;TZID=Europe/Paris:20231125T170000
DTSTAMP:20231128T213523Z
URL:https://www.spp.asso.fr/events/journee-scientifique-du-gtpso-allergies
 -perspectives-psychosomatiques-actuelles/
SUMMARY:Journée scientifique du GTPSO : Allergies\, perspectives psychosom
 atiques actuelles
DESCRIPTION:\n\nINSCRIPTIONS EN LIGNE SUR HELLOASSO\n&nbsp\;\nGroupe Toulou
 sain de Psychosomatique Pierre Marty\n100 allée de Barcelone\, 31000\, TO
 ULOUSE\nTel : 05 61 62 33 62 - email : gpsotoulouse@gmail.com
ATTACH;FMTTYPE=image/jpeg:https://www.spp.asso.fr/wp-content/uploads/2023/
 10/GTPSO_2023_ima.jpg
CATEGORIES:Colloques,Groupe Toulousain
LOCATION:Salle du Sénéchal\, 17 rue de Rémusat\, Toulouse\, France
GEO:43.6059781;1.4442467999999735
X-APPLE-STRUCTURED-LOCATION;VALUE=URI;X-ADDRESS=17 rue de Rémusat\, Toulou
 se\, France;X-APPLE-RADIUS=100;X-TITLE=Salle du Sénéchal:geo:43.6059781,
 1.4442467999999735
END:VEVENT
BEGIN:VTIMEZONE
TZID:Europe/Paris
X-LIC-LOCATION:Europe/Paris
BEGIN:STANDARD
DTSTART:20231029T020000
TZOFFSETFROM:+0200
TZOFFSETTO:+0100
TZNAME:CET
END:STANDARD
END:VTIMEZONE
END:VCALENDAR