
BEGIN:VCALENDAR
VERSION:2.0
PRODID:-//wp-events-plugin.com//7.2.3.1//EN
TZID:Europe/Paris
X-WR-TIMEZONE:Europe/Paris
BEGIN:VEVENT
UID:226@spp.asso.fr
DTSTART;TZID=Europe/Paris:20210626T000000
DTEND;TZID=Europe/Paris:20210703T000000
DTSTAMP:20210710T100339Z
URL:https://www.spp.asso.fr/events/julia-kristeva-revolte-et-reliancecollo
 que-international-de-cerisy-du-samedi-26-juin-au-samedi-3-juillet-202/
SUMMARY:JULIA KRISTEVA : RÉVOLTE ET RELIANCEColloque international de Ceri
 sy\, du samedi 26 juin au samedi 3 juillet 202
DESCRIPTION:\n\nRenseignements : cerisy-colloques.fr/juliakristeva2021/
ATTACH;FMTTYPE=image/jpeg:https://www.spp.asso.fr/wp-content/uploads/2021/
 06/colloque-de-cerisy_Kristeva_2021_300.jpg
CATEGORIES:Colloques
LOCATION:Centre culturel international de Cerisy\, 2\, Le Château \, Ceris
 y-la-Salle\, 50210\, France
GEO:49.020943;-1.288347
X-APPLE-STRUCTURED-LOCATION;VALUE=URI;X-ADDRESS=2\, Le Château \, Cerisy-l
 a-Salle\, 50210\, France;X-APPLE-RADIUS=100;X-TITLE=Centre culturel intern
 ational de Cerisy:geo:49.020943,-1.288347
END:VEVENT
BEGIN:VTIMEZONE
TZID:Europe/Paris
X-LIC-LOCATION:Europe/Paris
BEGIN:DAYLIGHT
DTSTART:20210328T030000
TZOFFSETFROM:+0100
TZOFFSETTO:+0200
TZNAME:CEST
END:DAYLIGHT
END:VTIMEZONE
END:VCALENDAR