
BEGIN:VCALENDAR
VERSION:2.0
PRODID:-//wp-events-plugin.com//7.2.3.1//EN
TZID:Europe/Paris
X-WR-TIMEZONE:Europe/Paris
BEGIN:VEVENT
UID:441@spp.asso.fr
DTSTART;TZID=Europe/Paris:20240117T203000
DTEND;TZID=Europe/Paris:20240117T220000
DTSTAMP:20240201T163320Z
URL:https://www.spp.asso.fr/events/la-lecon-de-psychiatrie-de-bernard-odie
 r-les-psychoses/
SUMMARY:LA LEÇON DE PSYCHIATRIE DE BERNARD ODIER : Les psychoses
DESCRIPTION:\n\n\n\nCONFERENCE – DEBAT 2024\n3ème mercredi du mois\nde 
 20 h 30 à 22 h 00\n(Présentation 60’\, discussion 30’)\nLes animat
 eurs de la discussion seront désignés séance après séance\n1èr
 e session : Mercredi 17 janvier 2024\nLes séances se déroulont en mixt
 e : présentiel (nombre de places limité)\,\nà la Policlinique René
  Angelergues de l'ASM 13 à Paris\ninscription obligatoire par mail conta
 ct@fedepsychiatrie.fr\nou en visio Zoom : https://us06web.zoom.us/meeting/
 register/tZckdeyhqzstGdPJb_7dYMOFzHqzygfCcN5N\n&nbsp\;\n\n[pdf-embedder ur
 l="https://www.spp.asso.fr/wp-content/uploads/2024/01/Fedepsy-conferences-
 2024-B-Odier-V1.pdf" width="100%"]\n\n\n\n\n
ATTACH;FMTTYPE=image/jpeg:https://www.spp.asso.fr/wp-content/uploads/2024/
 01/FFP_ODIER_2024_ima.jpg
CATEGORIES:Conférences
LOCATION:Policlinique René Angelergues\,  10 Rue Wurtz\, Paris\, 75013\, F
 rance
X-APPLE-STRUCTURED-LOCATION;VALUE=URI;X-ADDRESS= 10 Rue Wurtz\, Paris\, 750
 13\, France;X-APPLE-RADIUS=100;X-TITLE=Policlinique René Angelergues:geo:
 0,0
END:VEVENT
BEGIN:VTIMEZONE
TZID:Europe/Paris
X-LIC-LOCATION:Europe/Paris
BEGIN:STANDARD
DTSTART:20231029T020000
TZOFFSETFROM:+0200
TZOFFSETTO:+0100
TZNAME:CET
END:STANDARD
END:VTIMEZONE
END:VCALENDAR