
BEGIN:VCALENDAR
VERSION:2.0
PRODID:-//wp-events-plugin.com//7.2.3.1//EN
TZID:Europe/Paris
X-WR-TIMEZONE:Europe/Paris
BEGIN:VEVENT
UID:384@spp.asso.fr
DTSTART;TZID=Europe/Paris:20230603T090000
DTEND;TZID=Europe/Paris:20230603T120000
DTSTAMP:20230607T080657Z
URL:https://www.spp.asso.fr/events/la-pulsion-sexuelle-de-pouvoir-le-sexue
 l-et-lomnipotence/
SUMMARY:LA PULSION SEXUELLE DE POUVOIR — LE SEXUEL ET L’OMNIPOTENCE
DESCRIPTION:La Société Belge de Psychanalyse a le grand plaisir de vous
  convier à la conférence donnée par le Prof. Dominique Scarfone (Psy
 chanalyste de la Société Psychanalytique de Montréal/API)\n\nARGUMEN
 T\nDans ce travail\, l’auteur critique la dualité pulsions sexuelle/pu
 lsion de destruction et s’appuie sur le fait qu’on ne rencontre pas d
 ’abus de pouvoir qui ne soit connoté par le sexuel au sens freudien\, 
 ni d’abus sexuel qui ne soit en même temps un abus de pouvoir\, pour m
 ettre de l’avant la notion de “pulsion sexuelle de pouvoir”. Celle-c
 i est proposée non comme une nouvelle pulsion\, mais comme tronc final c
 ommun des mouvements de la pulsion (sexuelle) de mort et de la toute-puiss
 ance narcissique. La jonction entre ces deux courants se fait par l’entr
 emise de ce que Freud a nommé Bemächtigungstrieb\, souvent traduite co
 mme pulsion d’emprise ou de maîtrise\, mais qu’il serait plus exact 
 d’appeler pulsion de pouvoir – rendant mieux compte de la violence qui
  lui correspond.\n\nRenseignements et inscriptions en ligne : www.psychana
 lyse.be\n\n[pdf-embedder url="https://www.spp.asso.fr/wp-content/uploads/2
 023/04/Scarfone_Programme_030623_FR.pdf" width="100%"]
ATTACH;FMTTYPE=image/jpeg:https://www.spp.asso.fr/wp-content/uploads/2023/
 04/Scarfone_Programme_030623_ima.jpg
CATEGORIES:Conférences
LOCATION:Société Belge de Psychanalyse\, Rue Émile Claus 49\, 1er étage
 \, Bruxelles\, 1050\, Belgique
X-APPLE-STRUCTURED-LOCATION;VALUE=URI;X-ADDRESS=Rue Émile Claus 49\, 1er 
 étage\, Bruxelles\, 1050\, Belgique;X-APPLE-RADIUS=100;X-TITLE=Société 
 Belge de Psychanalyse:geo:0,0
END:VEVENT
BEGIN:VTIMEZONE
TZID:Europe/Paris
X-LIC-LOCATION:Europe/Paris
BEGIN:DAYLIGHT
DTSTART:20230326T030000
TZOFFSETFROM:+0100
TZOFFSETTO:+0200
TZNAME:CEST
END:DAYLIGHT
END:VTIMEZONE
END:VCALENDAR