
BEGIN:VCALENDAR
VERSION:2.0
PRODID:-//wp-events-plugin.com//7.2.3.1//EN
TZID:Europe/Paris
X-WR-TIMEZONE:Europe/Paris
BEGIN:VEVENT
UID:344@spp.asso.fr
DTSTART;TZID=Europe/Paris:20221001T133000
DTEND;TZID=Europe/Paris:20221001T183000
DTSTAMP:20221002T103002Z
URL:https://www.spp.asso.fr/events/lapf-a-nantes-vivons-nous-sous-la-contr
 ainte/
SUMMARY:L’APF à Nantes : Vivons-nous sous la contrainte ?
DESCRIPTION:L’APF à Nantes :\nVivons-nous sous la contrainte ?\nCes troi
 s journées APF de Nantes font suite à une\nsérie de conférences qui on
 t eu lieu les années\nprécédentes aux salons Mauduit et aux Chantiers\n
 de l’Atlantique avec les membres de l’APF suivants :\nJacques André\
 , André Beetschen\, Catherine Chabert\,\nPierre Fédida\, Laurence Kahn e
 t Daniel Widlöcher.\n\nRenseignements et inscription : associationpsychan
 alytiquedefrance.org/activites-ouvertes
ATTACH;FMTTYPE=image/jpeg:https://www.spp.asso.fr/wp-content/uploads/2022/
 09/APF_Nantes_2022.png
CATEGORIES:Colloques
LOCATION:Hôtel Radisson Blu\, 6\, place Aristide Briand\, Nantes\, 44000\,
  France
X-APPLE-STRUCTURED-LOCATION;VALUE=URI;X-ADDRESS=6\, place Aristide Briand\,
  Nantes\, 44000\, France;X-APPLE-RADIUS=100;X-TITLE=Hôtel Radisson Blu:ge
 o:0,0
END:VEVENT
BEGIN:VTIMEZONE
TZID:Europe/Paris
X-LIC-LOCATION:Europe/Paris
BEGIN:DAYLIGHT
DTSTART:20220327T030000
TZOFFSETFROM:+0100
TZOFFSETTO:+0200
TZNAME:CEST
END:DAYLIGHT
END:VTIMEZONE
END:VCALENDAR