
BEGIN:VCALENDAR
VERSION:2.0
PRODID:-//wp-events-plugin.com//7.2.3.1//EN
TZID:Europe/Paris
X-WR-TIMEZONE:Europe/Paris
BEGIN:VEVENT
UID:424@spp.asso.fr
DTSTART;TZID=Europe/Paris:20231123T210000
DTEND;TZID=Europe/Paris:20231123T233000
DTSTAMP:20231128T213556Z
URL:https://www.spp.asso.fr/events/le-gnspp-organise-une-soiree-zoom-avec-
 rachel-rosenblum/
SUMMARY:Le GNSPP organise une soirée Zoom avec Rachel Rosenblum
DESCRIPTION:Jeudi 23 novembre 23\, le groupe Normand de la SPP organise\, d
 ans le cadre « Un livre\, un auteur »\,  une soirée Zoom avec Rachel
  Rosenblum pour son livre Mourir d’écrire ? Shoah\, traumas extrêmes e
 t psychanalyse des survivants paru aux Puf en 2019.\n\nhttps://us02web.zo
 om.us/j/88296120670?pwd=TmVYVFJBdzRRdGpGMjVvbE1PVmlzQT09\nID de réunion: 
 882 9612 0670\nCode secret: 373924
ATTACH;FMTTYPE=image/jpeg:https://www.spp.asso.fr/wp-content/uploads/2023/
 10/GNSPP_Rachel-Rosenblum_2023_ima.jpg
CATEGORIES:Autour d'une publication,Conférences
LOCATION:ZOOM\, visioconférence\, ZOOM\, -\, -\, -\, France
X-APPLE-STRUCTURED-LOCATION;VALUE=URI;X-ADDRESS=visioconférence\, ZOOM\, -
 \, -\, -\, France;X-APPLE-RADIUS=100;X-TITLE=ZOOM:geo:0,0
END:VEVENT
BEGIN:VTIMEZONE
TZID:Europe/Paris
X-LIC-LOCATION:Europe/Paris
BEGIN:STANDARD
DTSTART:20231029T020000
TZOFFSETFROM:+0200
TZOFFSETTO:+0100
TZNAME:CET
END:STANDARD
END:VTIMEZONE
END:VCALENDAR