
BEGIN:VCALENDAR
VERSION:2.0
PRODID:-//wp-events-plugin.com//7.2.3.1//EN
TZID:Europe/Paris
X-WR-TIMEZONE:Europe/Paris
BEGIN:VEVENT
UID:377@spp.asso.fr
DTSTART;TZID=Europe/Paris;VALUE=DATE:20230331
DTEND;TZID=Europe/Paris;VALUE=DATE:20230401
DTSTAMP:20230401T182213Z
URL:https://www.spp.asso.fr/events/le-manifestpsy-a-lassemblee-nationale/
SUMMARY:Le manifestpsy à l'Assemblée Nationale
DESCRIPTION:
ATTACH;FMTTYPE=image/jpeg:https://www.spp.asso.fr/wp-content/uploads/2023/
 03/manifestpsy_ima.jpg
CATEGORIES:Conférences
LOCATION:Assemblée Nationale\, 126 Rue de l'Université\, Paris\, 75007\, 
 France
X-APPLE-STRUCTURED-LOCATION;VALUE=URI;X-ADDRESS=126 Rue de l'Université\, 
 Paris\, 75007\, France;X-APPLE-RADIUS=100;X-TITLE=Assemblée Nationale:geo
 :0,0
END:VEVENT
BEGIN:VTIMEZONE
TZID:Europe/Paris
X-LIC-LOCATION:Europe/Paris
BEGIN:DAYLIGHT
DTSTART:20230326T030000
TZOFFSETFROM:+0100
TZOFFSETTO:+0200
TZNAME:CEST
END:DAYLIGHT
END:VTIMEZONE
END:VCALENDAR