
BEGIN:VCALENDAR
VERSION:2.0
PRODID:-//wp-events-plugin.com//7.2.3.1//EN
TZID:Europe/Paris
X-WR-TIMEZONE:Europe/Paris
BEGIN:VEVENT
UID:317@spp.asso.fr
DTSTART;TZID=Europe/Paris:20221208T210000
DTEND;TZID=Europe/Paris:20221208T210000
DTSTAMP:20221122T112400Z
URL:https://www.spp.asso.fr/events/le-masochisme-erogene-primaire/
SUMMARY:CIPSYG02 — Le masochisme érogène primaire
DESCRIPTION:
ATTACH;FMTTYPE=image/jpeg:https://www.spp.asso.fr/wp-content/uploads/2022/
 07/vignette_PSYG_2023.jpg
CATEGORIES:Conférences du jeudi,Paris
LOCATION:Salle des conférences SPP\, 21 rue Daviel\, Paris\, 75013\, Franc
 e
GEO:48.8280054;2.3447788999999375
X-APPLE-STRUCTURED-LOCATION;VALUE=URI;X-ADDRESS=21 rue Daviel\, Paris\, 750
 13\, France;X-APPLE-RADIUS=100;X-TITLE=Salle des conférences SPP:geo:48.8
 280054,2.3447788999999375
END:VEVENT
BEGIN:VTIMEZONE
TZID:Europe/Paris
X-LIC-LOCATION:Europe/Paris
BEGIN:STANDARD
DTSTART:20221030T020000
TZOFFSETFROM:+0200
TZOFFSETTO:+0100
TZNAME:CET
END:STANDARD
END:VTIMEZONE
END:VCALENDAR