
BEGIN:VCALENDAR
VERSION:2.0
PRODID:-//wp-events-plugin.com//7.2.3.1//EN
TZID:Europe/Paris
X-WR-TIMEZONE:Europe/Paris
BEGIN:VEVENT
UID:7@spp.asso.fr
DTSTART;TZID=Europe/Paris:20180407T143000
DTEND;TZID=Europe/Paris:20180407T143000
DTSTAMP:20180406T152642Z
URL:https://www.spp.asso.fr/events/le-psychodrame-psychanalytique/
SUMMARY:Le Psychodrame Psychanalytique
DESCRIPTION:Le Psychodrame Psychanalytique\nSa valeur thérapeutique quand 
 les processus de symbolisation font défaut\nSon intérêt et ses indicati
 ons à l’adolescence (Fabienne De Lanlay)\nLes registres interprétatifs
  au Psychodrame (Claude Broclain)\nSamedi 7 avril 2018\, à 14h30\nHôtel 
 du Petit Louvre - Troyes
CATEGORIES:Conférences,Groupe Bourgogne - Franche Comté,Province
LOCATION:Hôtel du Petit Louvre - Troyes\, 1 rue Linard-Gonthier\, Troyes\,
  10000\, France
GEO:48.2989918;4.0804017000000385
X-APPLE-STRUCTURED-LOCATION;VALUE=URI;X-ADDRESS=1 rue Linard-Gonthier\, Tro
 yes\, 10000\, France;X-APPLE-RADIUS=100;X-TITLE=Hôtel du Petit Louvre - T
 royes:geo:48.2989918,4.0804017000000385
END:VEVENT
BEGIN:VTIMEZONE
TZID:Europe/Paris
X-LIC-LOCATION:Europe/Paris
BEGIN:DAYLIGHT
DTSTART:20180325T030000
TZOFFSETFROM:+0100
TZOFFSETTO:+0200
TZNAME:CEST
END:DAYLIGHT
END:VTIMEZONE
END:VCALENDAR