
BEGIN:VCALENDAR
VERSION:2.0
PRODID:-//wp-events-plugin.com//7.2.3.1//EN
TZID:Europe/Paris
X-WR-TIMEZONE:Europe/Paris
BEGIN:VEVENT
UID:376@spp.asso.fr
DTSTART;TZID=Europe/Paris:20230325T093000
DTEND;TZID=Europe/Paris:20230325T123000
DTSTAMP:20230326T160204Z
URL:https://www.spp.asso.fr/events/le-soin-en-psychiatrie-et-plaisir-au-tr
 avail-un-defi/
SUMMARY:LE SOIN EN PSYCHIATRIE ET PLAISIR AU TRAVAIL\, UN DEFI ?
DESCRIPTION:\nL’association CAPSY a le plaisir de vous convier à la conf
 érence de\nChristophe DEJOURS : «  Soin en psychiatrie &amp\; plaisir a
 u travail : un défi ? »\,\nle samedi 25 mars 2023\, de 9h30 à 12h30\nà
  la salle municipale de l’Athénée\, Place St Christoly\, Bordeaux.\nPo
 ur s'inscrire cliquez &gt\;&gt\;&gt\; ICI\n\nArgument :\nLe mal-être act
 uel de tous les soignants se développe dans un malaise culturel profond q
 ui affecte les institutions qu’elles soient hospitalières\, associative
 s ou du médico-social. Ceci est-il seulement dû à un problème de moyen
 s ?\nD’autres causes sont-elles associées à cet épuisement à l’ori
 gine de si nombreux départs et à l’érosion des vocations ?\nQuelles p
 ourraient être les conditions permettant de redonner du sens et du plaisi
 r aux soins psychiatriques\, tant pour les soignants que les soignés\, da
 ns nos hôpitaux et nos institutions\, sachant combien parfois les patholo
 gies lourdes qui sont prises en charge peuvent avoir des effets délétèr
 es groupaux ou individuels sur ceux qui les accompagnent ?\nPour répondre
  à ces questions\, Christophe Dejours nous invitera à réfléchir sur la
  valeur anthropologique du travail vivant\, sur sa dimension de sublimatio
 n et sur ce qui soutient son sens.\n
ATTACH;FMTTYPE=image/jpeg:https://www.spp.asso.fr/wp-content/uploads/2023/
 03/capa-dejours-bordeaux-2023_ima.jpg
CATEGORIES:Conférences
LOCATION:Salle municipale de l’Athénée\, Place St-Christoly\, Bordeaux\
 , 33000\, France
X-APPLE-STRUCTURED-LOCATION;VALUE=URI;X-ADDRESS=Place St-Christoly\, Bordea
 ux\, 33000\, France;X-APPLE-RADIUS=100;X-TITLE=Salle municipale de l’Ath
 énée:geo:0,0
END:VEVENT
BEGIN:VTIMEZONE
TZID:Europe/Paris
X-LIC-LOCATION:Europe/Paris
BEGIN:STANDARD
DTSTART:20221030T020000
TZOFFSETFROM:+0200
TZOFFSETTO:+0100
TZNAME:CET
END:STANDARD
END:VTIMEZONE
END:VCALENDAR