
BEGIN:VCALENDAR
VERSION:2.0
PRODID:-//wp-events-plugin.com//7.2.3.1//EN
TZID:Europe/Paris
X-WR-TIMEZONE:Europe/Paris
BEGIN:VEVENT
UID:123@spp.asso.fr
DTSTART;TZID=Europe/Paris:20191018T000000
DTEND;TZID=Europe/Paris:20200201T000000
DTSTAMP:20191124T171234Z
URL:https://www.spp.asso.fr/events/les-conferences-psychanalytiques-nicois
 es-2019-2020/
SUMMARY:Les conférences psychanalytiques niçoises 2019-2020
DESCRIPTION:Conférences psychanalytiques niçoises 2019-2020\norganisées 
 par des membres de la Société Psychanalytique de Paris\nconférences &am
 p\; débats sur les questions soulevées par la théorie et la pratique de
  la psychanalyse d’aujourd’hui\n\nCycle 2019-2020 : Le sujet\nConverge
 nce : Le sujet au féminin\n\nvendredi 18 octobre 2019 : Sexe\, genre et p
 sychothérapies\nsamedi 19 octobre 2019 :\nLa femme qui procrée : mammif
 ère et/ou déesse? Jacqueline Schaeffer (Société Psychanalytique de Pa
 ris)\nMalaise dans la sexuation. Pierre Decourt (Société Psychanalytiqu
 e de Paris)\nConférences recherche\nsamedi 16 novembre 2019 :\nLe sujet e
 t son double. Johann Jung (Maître de conférences en psychopathologie et
  psychologie clinique\, Université Lyon 2)\nsamedi 1er février 2020 :\n
 À quoi pensent les autistes. Martin Joubert (Société Psychanalytique d
 e Paris)\nHoraires: vendredi 20:00 - 22:00 ♦ samedi 10:00 - 17:00\nSALL
 E DES DOMINICAINS DE NICE\, 9 Rue Saint-François de Paule\, 06300 Nice\nP
 ARTICIPATION AUX FRAIS :\nvendredi 15€ (gratuit étudiants)\nsamedi 40
 € (étudiants: 10€)\nvendredi + samedi 50€\nFORMATION PROFESSIONNELL
 E: le cycle complet 300€\nINFORMATIONS CONTACT: groupenicepsy@free.fr 
  /  http://gnrpn.ikki.space/accueil/
ATTACH;FMTTYPE=image/jpeg:https://www.spp.asso.fr/wp-content/uploads/2019/
 04/GNRPN_Nice_2019-2020_fevrier.jpg
CATEGORIES:Colloques,Conférences,GNRPN,Groupe Méditerranéen
LOCATION:SALLE DES DOMINICAINS DE NICE\, 9 Rue Saint-François de Paule\, N
 ice\, 06300\, France
GEO:43.6958334;7.271919000000025
X-APPLE-STRUCTURED-LOCATION;VALUE=URI;X-ADDRESS=9 Rue Saint-François de Pa
 ule\, Nice\, 06300\, France;X-APPLE-RADIUS=100;X-TITLE=SALLE DES DOMINICAI
 NS DE NICE:geo:43.6958334,7.271919000000025
END:VEVENT
BEGIN:VTIMEZONE
TZID:Europe/Paris
X-LIC-LOCATION:Europe/Paris
BEGIN:DAYLIGHT
DTSTART:20190331T030000
TZOFFSETFROM:+0100
TZOFFSETTO:+0200
TZNAME:CEST
END:DAYLIGHT
BEGIN:STANDARD
DTSTART:20191027T020000
TZOFFSETFROM:+0200
TZOFFSETTO:+0100
TZNAME:CET
END:STANDARD
END:VTIMEZONE
END:VCALENDAR