
BEGIN:VCALENDAR
VERSION:2.0
PRODID:-//wp-events-plugin.com//7.2.3.1//EN
TZID:Europe/Paris
X-WR-TIMEZONE:Europe/Paris
BEGIN:VEVENT
UID:373@spp.asso.fr
DTSTART;TZID=Europe/Paris:20230415T133000
DTEND;TZID=Europe/Paris:20230415T183000
DTSTAMP:20230417T102409Z
URL:https://www.spp.asso.fr/events/les-ideaux-a-ladolescence-et-le-besoin-
 de-croire/
SUMMARY:LES IDEAUX A L’ADOLESCENCE ET LE BESOIN DE CROIRE
DESCRIPTION:Renseignements et inscriptions : catherine.galat@fsef.net ou 01
  40 91 50 25\nPlaces limitées et réservées aux professionnels\nARGUM
 ENT\nL’entrée dans l’adolescence peut être pensée comme le momen
 t où la sexualité infantile a tendance à être éclipsée par la 
 question lancinante de l’identité et donc des idéaux qui peuvent par
 fois s’avérer féroces\, voire tyranniques.\nSi l’adolescent est co
 nfronté à un bouleversement de son être\, ce n’est pas seulement p
 arce qu’il accède à la maturité sexuelle mais aussi parce qu’il 
 est saisi par une poussée à l’idéalisation intense. Souvent les id
 éaux fondés sur les identifications qui jusque-là animaient sa vie e
 t celle des siens ne lui semblent plus à la hauteur de ses exigences.\nJ
 usque-là\, il en vivait\, sans trop réfléchir\, il y adhérait comm
 e à des vérités incarnées par les adultes.\nPuis brusquement il ch
 ange d’attitude. Il critique\, prend des positions péremptoires et ne 
 sait plus qui ou quoi idéaliser.\nC’est un moment angoissant\, risque
 ́\, où l’adolescent est en danger de perdre ses repères\, et il va 
 lui falloir faire un long chemin pour en retrouver d’autres. C’est aus
 si un moment crucial puisqu’il cherche à mettre le processus d’idé
 alisation au service de ses désirs à lui\, provoquant des bouleverseme
 nts considérables pour lui et au sein de la famille et l’entourage.\nE
 n attendant\, l’adolescent « trouve-cherche » activement à idéalis
 er\, il est très doué en ce domaine\, idéalisant et désidéalisan
 t à la fois\, puis brûlant rapidement ce qu’il adorait.\nCette quest
 ion des idéaux est capitale aujourd’hui où l’on entend dire souven
 t que les adolescents manquent d’idéaux et que cela tiendrait aux care
 nces de la société ou des parents qui démissionnent et ne transmette
 nt plus leurs valeurs.\nDans un très beau texte de 2007 publié dans Ad
 olescence N.59 et intitulé « Rôles et fonctions des idéaux à l’
 adolescence » Gérard Bonnet rappelle une communication de Julia Kristev
 a\, faite à Washington en 2005\, où Julia Kristeva évoquait la crise
  des banlieues françaises à l’époque sur le devant de la scène i
 nternationale.\nElle l’analysait en termes de « maladie d’idéalite
 ́ spécifique à l’adolescent ». C’est la première fois que cett
 e expression a été utilisée pour caractériser la crise adolescente
  dans ses formes spectaculaires.\nJ Kristeva écrivait : « L’adolescen
 t est avide de modèles idéaux qui lui permettront de s’arracher à 
 ses parents\, de rencontrer l’être idéal » ... « (Ce besoin) parce
  qu’il est une exigence absolue\, peut facilement s’inverser dans son 
 contraire : la déception... la rage destructrice\, etc. » Julia Kristev
 a affirme par ailleurs que « cette phase du nihilisme... » s’annonce a
 près et sous le « heurt des religions ». Ce qui peut sembler encore pl
 us vrai aujourd’hui qu’en 2005.\nC’est au travers de matériaux cli
 niques du Centre de psychanalyse Henri Danon-Boileau que nous chercherons 
 à interroger l’idéalité\, le besoin de croire\, le désir de savo
 ir et leurs écueils.\n\nPROGRAMME\n13h30 — Accueil des Participants\nF
 rédéric Signabout\, Directeur de la Clinique Sceaux Dr Olivier Canceil
  \, Coordinateur Médical\n\nIntroduction\nMarilia Aisenstein\, Dr Patric
 ia Benhamou\n\n14h00\nMarie KACI « Croire en soi\, un enjeu d’adolescen
 ce »\n\nDiscussion avec Julia KRISTEVA\n\n16h00 - PAUSE\n\n16h30\nAnne-Cl
 aire CHAROUSSET « Amalia\, les mouchoirs\, la valise et les écouteurs 
 »\n\nDiscussion avec Julia KRISTEVA\n\n[pdf-embedder url="https://www.spp
 .asso.fr/wp-content/uploads/2023/03/programme_15.04.23.pdf" width="100%"]
ATTACH;FMTTYPE=image/jpeg:https://www.spp.asso.fr/wp-content/uploads/2023/
 03/HDB_15-04-23_ima.jpg
CATEGORIES:Colloques
LOCATION:Clinique FSEF Sceaux - salle Janet\, 30 avenue du Président F. Ro
 osevelt 92330 Sceaux\, Sceaux\, 92330\, France
X-APPLE-STRUCTURED-LOCATION;VALUE=URI;X-ADDRESS=30 avenue du Président F. 
 Roosevelt 92330 Sceaux\, Sceaux\, 92330\, France;X-APPLE-RADIUS=100;X-TITL
 E=Clinique FSEF Sceaux - salle Janet:geo:0,0
END:VEVENT
BEGIN:VTIMEZONE
TZID:Europe/Paris
X-LIC-LOCATION:Europe/Paris
BEGIN:DAYLIGHT
DTSTART:20230326T030000
TZOFFSETFROM:+0100
TZOFFSETTO:+0200
TZNAME:CEST
END:DAYLIGHT
END:VTIMEZONE
END:VCALENDAR