
BEGIN:VCALENDAR
VERSION:2.0
PRODID:-//wp-events-plugin.com//7.2.3.1//EN
TZID:Europe/Paris
X-WR-TIMEZONE:Europe/Paris
BEGIN:VEVENT
UID:108@spp.asso.fr
DTSTART;TZID=Europe/Paris:20190323T133000
DTEND;TZID=Europe/Paris:20190324T123000
DTSTAMP:20190325T073553Z
URL:https://www.spp.asso.fr/events/les-rencontres-2019-de-la-spp-clivage-e
 t-refoulement-dans-la-situation-analytique/
SUMMARY:Les Rencontres 2019 de la SPP : Clivage et refoulement dans la situ
 ation analytique
DESCRIPTION:Les Rencontres de la SPP 2019\nOuvert aux membres\, analystes e
 n formation et anciens analystes en formation\, correspondants\n\nClivage 
 et refoulement\ndans la situation analytique\nEspace de conférence des Di
 aconesses\n18 rue du Sergent Bauchat\n75 012 Paris\nSamedi 23 et dimanche 
 24 mars 2019\nPrésidé par Denys RIBAS\nOrganisateurs et modérateurs :\n
 Jean-Louis BALDACCI\, Evelyne CHAUVET\, Isabelle Martin KAMIENIAK\n&nbsp\;
 \n\nProgramme\n\nSamedi 23 mars 2019 (13 h 45 - 18 h 30)\n13h 15 : Accueil
  des participants\n13h 45 : Présidence Denys RIBAS\n14h 00 : Introduction
  théorique et « fil rouge » de la discussion : Claude SMADJA\n14h 20 : 
 Présentation clinique : Daniel METGE (Toulouse)\nCommentaire par Dominiqu
 e BOURDIN\n15h 20 : La parole à la salle\n\n15h 45-16h 00 : Pause\n\n16h 
 00 : Poursuite de la discussion\n17h 00 - 18h 30 : Ateliers :\n\n 	Sophie 
 CHARME et Claude BROCLAIN\n 	Kalyane FEJTÖ et Michael BRUN\n 	Claire MAUR
 ICE et Abdel-Karim KEBIR\n 	Hélène PARAT et Gérard SORIA\n 	Dominique R
 EYDELLET et Anne ROSENBERG\n 	Anne Marie VAISSAIRE et Jacques LUCCHINI\n\n
 Dimanche 24 mars 2019 (9 h - 12 h 30)\n\n9h-9h40 : Deuxième présentation
  clinique : Aline COHEN-DELARA commentaire par Jean PICARD\n10h : La parol
 e à la salle\n10h 30-10h45 : Pause\n11h 45-12h 30 : Table ronde conclusiv
 e par les intervenants.\n\nbulletin d'inscription\n(membres\, analystes en
  formation et anciens analystes en formation\, correspondants)\n\nArgument
 \n\nClivage et refoulement dans la situation analytique et non pas clivage
  ou refoulement. Pourquoi à propos de la cure\, associer et ne pas oppose
 r les deux mécanismes ? Comment « le processus de défense du moi »\, s
 ollicité par l’expérience du transfert les utilise-t-il ? Exclusivemen
 t\, alternativement\, simultanément ?\n\nIl est classique de considérer 
 un peu rapidement\, clivage et refoulement comme des stratégies de défen
 se du moi différentes voire opposées. Le refoulement du côté de la né
 vrose et le clivage comme lié à la problématique du déni\, déni de la
  castration dans les perversions\, ou d’une part plus ou moins grande de
  la réalité dans les états limites et les états psychotiques. Cette op
 position est même utilisée comme un repérage diagnostique pratique\, en
  référence à une nosographie psychanalytique plus ou moins explicite.\n
 \nMais\, chez Freud\, le clivage est loin d’être un phénomène univoqu
 e et son rapport au refoulement n’est pas posé sur le mode de l’alter
 native. D’ailleurs\, à propos de l’article princeps de 1938\, « Le c
 livage du moi dans le processus de défense » le premier titre qui vient 
 sous sa plume est « Le clivage du moi comme processus de défense ». Rem
 placer le « comme » par « dans » traduit un changement de perspective 
 : de défense spécifique\, le clivage devient un mécanisme qui s’inscr
 it conjointement au refoulement dans le processus de défense du moi.\n\nC
 e changement de 1938 pose donc la question de pouvoir situer le clivage da
 ns le système des défenses du moi et de l’envisager comme participant 
 d’un processus global.\n\nEn 1927\, l’article sur le fétichisme appor
 te la preuve théorico-clinique de la coexistence possible du déni de la 
 castration et de sa reconnaissance simultanée. Mais Freud est alors oblig
 é de renverser sa théorie du refoulement : c’est le refoulement de l
 ’affect qui permet de soutenir la reconnaissance simultanée de la castr
 ation. Refoulement et déni peuvent alors s’articuler et Freud retrouve 
 son hypothèse de 1924 celle de la possibilité pour le moi de « faire am
 ende de son unité » ce qui expliquerait « les extravagances et les foli
 es des hommes ». Le clivage peut alors devenir un concept métapsychologi
 que et les travaux terminaux de 1938\, « Le clivage du moi… » déjà c
 ité et « L’abrégé de psychanalyse » résument les questions qu’il
  pose. Est-il un mécanisme de défense\, qui dans des circonstances traum
 atiques singulières pallie les défaillances du refoulement tout en ouvra
 nt sur un déni de réalité ? Ou est-il un entre deux\, un facteur de ré
 gulation qui\, dans des contextes de perte et de séparation\, permet d’
 éviter l’alternative refoulement/déni et réduit leurs excès respecti
 fs ? Enfin ces deux possibilités renvoient-elles à des formes différent
 es de clivage ?\n\nCes questions se recoupent si l’on envisage le rappor
 t du clivage et du refoulement. À quelles conditions en effet ce rapport 
 est-il maintenu ou rompu ? Et en cas de rupture peut-il à nouveau devenir
  fonctionnel ?\n\nAu cours de ces journées de rencontres\, nous souhaiton
 s donc remettre sur le métier la problématique freudienne du rapport cli
 vage/refoulement. Questionnement nécessaire\, car la reconnaissance et la
  non-reconnaissance simultanées d’éléments du ça et de la réalité 
 ouvrent le champ de l’illusion et de la transitionnalité. En d’autres
  termes nous nous demanderons à quelles conditions le clivage peut être 
 une rupture ou un passage ?\n\nNous travaillerons successivement deux situ
 ations cliniques : un travail analytique en face à face et une psychanaly
 se divan/fauteuil.\n\n&nbsp\;\n\nBibliographie freudienne\n\n 	Freud S. (1
 985c [1887-1904]) Lettres à Wilhelm Fliess : 1887-1904\, trad. fr. F. Kah
 n\, F. Robert\, Paris\, PUF\, 2006.\n 	Freud S. (1894 a)\, Les psychonévr
 oses de défense : essai d’une théorie psychologique de l’hystérie a
 cquise de nombreuses phobies et obsessions et de certaines psychoses hallu
 cinatoires\, Névrose\, psychose et perversion\, trad. fr. J. Laplanche\, 
 Paris\, PUF\, 1973 \; OCF.P\, III\, 1989 \; GW\, I.\n 	Freud S. (1908 c)\,
  Les théories sexuelles infantiles\, La vie sexuelle\, trad. fr. J.-B. Po
 ntalis\, Paris\, PUF\, 1969 \; OCF.P\, VIII\, 2007 \; GW\, VII.\n 	Freud S
 . (1909 d)\, Remarques sur un cas de névrose obsessionnelle (l’Homme au
 x rats)\, Cinq psychanalyses\, trad. fr. M. Bonaparte\, R. M. Loewenstein\
 , Paris\, PUF\, 1966 \; OCF.P\, IX\, 1998 \; GW\, VII.\n 	Freud S. (1914 d
 )\, Sur l’histoire du mouvement psychanalytique\, trad. fr. C. Heim\, Pa
 ris\, Gallimard\, 1991 \; OCF.P\, XII\, 2005 \; GW\, X.\n 	Freud S. (1915 
 d)\, Le refoulement\, Métapsychologie\, trad. fr. J. Laplanche et J.-B. P
 ontalis\, Paris\, Gallimard\, 1968 \; OCF.P\, XIII\, 1988 \; GW\, X.\n 	Fr
 eud S. (1917 e [1915])\, Deuil et mélancolie\, Métapsychologie\, trad. f
 r. J. Laplanche\, J.-B. Pontalis\, J.-P Briand\, J.-P. Grossein\, M. Tort\
 , Paris\, Gallimard\, 1968 \; OCF.P\, XIII\, 1988 \; GW\, X.\n 	Freud S. (
 1921 c)\, Psychologie collective et analyse du Moi\, Essais de psychanalys
 e\, Paris\, Payot\, 1972 \; OCF.P\, XVI\, 1991 \; GW\, XIII.\n 	Freud S. (
 1923 b)\, Le Moi et le Ça\, Essai de psychanalyse\, trad. fr. J. Laplanch
 e\, Paris\, Payot\, 1981 \; OCF.P\, XVI\, 1991 \; GW\, XIII.\n 	Freud S.(1
 924)\, Névrose et psychose\, Paris Puf\, 1973\n 	Freud S. (1924 e)\, La p
 erte de la réalité dans la névrose et la psychose\, Névrose\, psychose
  et perversion\, trad. fr. D. Guérineau\, Paris\, PUF\, 1973 \; OCF.P\, X
 VII\, 1992 \; GW\, XIII.\n 	Freud S. (1925 h)\, La négation\, Résultats\
 , idées\, problèmes\, II\, Paris\, PUF\, 1985 \; OCF.P\, XVII\, 1992 \; 
 GW\, XIII.\n 	Freud S. (1927 e)\, Le fétichisme\, La vie sexuelle\, trad.
  fr. D. Berger\, Paris\, PUF\, 1969 \; OCF.P\, XVIII\, 1994 \; GW\, XIV.\n
  	Freud S. (1933a [1932]) 31e leçon : la décomposition de la personnalit
 é psychique\, Nouvelles conférences d'introduction à la psychanalyse\, 
 trad. fr. M. R. Zeitlin\, Paris\, Gallimard\, 1984 \; OCF\, XIX\, 1995 \; 
 GW\, XV.\n 	Freud S. (1940 a [1938])\, Abrégé de psychanalyse\, trad. A.
  Bermann\, revue par J. Laplanche\, Paris\, PUF\, 1985 \, OCF.\, XX\, 2010
  \; GW\, XV.\n 	Freud S. (1940 e [1938])\, Le clivage du Moi dans le proce
 ssus de défense\, Résultats\, Idées\, Problèmes\, II\, Paris\, PUF\, 1
 985\, OCF.\, XX\, 2010 \, GW\, XVII.\n\nBibliographie générale\n\n 	BAYL
 E\, Gérard\, Clivages\, Coll. Le fil rouge\, Presses Universitaires de Fr
 ance\, Paris\, 2012\n 	CHABERT Catherine et KAHN Laurence\, Il y a clivage
  et clivage\, Le Carnet Psy\, Ed. Cazaubon\, n° 190\, 2015/5 pp. 20-30\n 
 	DEUTSCH H.\, Sur le mensonge pathologique\, Conférence prononcée le 30 
 mars 1921 \; in Les Introuvables : cas cliniques et autoanalyse (1918-1930
 )\, Paris\, Le seuil\, 2000\n 	ROUSSILLON\, René. Agonie\, clivage et sym
 bolisation\, Coll. Le fait psychanalytique\, Presses Universitaires de Fra
 nce\, 1999\n 	LES CLIVAGES in Revue Française de Psychanalyse\, vol. 60\,
  n° 5\, spécial congrès\, Paris\, Presses Universitaires de France\, 19
 96.\n
ATTACH;FMTTYPE=image/jpeg:https://www.spp.asso.fr/wp-content/uploads/2019/
 01/Visuel_Les_Rencontres_2019-e1549360248960.jpg
CATEGORIES:Colloques,Conférences,Paris
LOCATION:Espace de conférence des Diaconesses\, 18 rue du Sergent Bauchat 
  \, 75012 Paris\, France
GEO:48.8450688;2.3923838000000615
X-APPLE-STRUCTURED-LOCATION;VALUE=URI;X-ADDRESS=18 rue du Sergent Bauchat  
 \, 75012 Paris\, France;X-APPLE-RADIUS=100;X-TITLE=Espace de conférence d
 es Diaconesses:geo:48.8450688,2.3923838000000615
END:VEVENT
BEGIN:VTIMEZONE
TZID:Europe/Paris
X-LIC-LOCATION:Europe/Paris
BEGIN:STANDARD
DTSTART:20181028T020000
TZOFFSETFROM:+0200
TZOFFSETTO:+0100
TZNAME:CET
END:STANDARD
END:VTIMEZONE
END:VCALENDAR