
BEGIN:VCALENDAR
VERSION:2.0
PRODID:-//wp-events-plugin.com//7.2.3.1//EN
TZID:Europe/Paris
X-WR-TIMEZONE:Europe/Paris
BEGIN:VEVENT
UID:464@spp.asso.fr
DTSTART;TZID=Europe/Paris:20240427T160000
DTEND;TZID=Europe/Paris:20240427T200000
DTSTAMP:20240618T081759Z
URL:https://www.spp.asso.fr/events/les-samedis-du-centre-de-psychanalyse-e
 t-de-psychotherapie-evelyne-et-jean-kestemberg-la-dette/
SUMMARY:Les Samedis du Centre de Psychanalyse et de Psychothérapie Evelyne
  et Jean Kestemberg :  La dette
DESCRIPTION:Sophie KECSKEMETI : Dette de vie\nCarlos PACHECO : Charles-Edou
 ard de Léon... et la dette infinie - Une répétition sans butée ?\nRens
 eignements et inscription : www.asm13.org\n\n[pdf-embedder url="https://ww
 w.spp.asso.fr/wp-content/uploads/2024/04/samedis_2024.pdf" title="Samedis 
 du Centre2024" width="100%"]\n\n&nbsp\;
ATTACH;FMTTYPE=image/jpeg:https://www.spp.asso.fr/wp-content/uploads/2024/
 04/samedi-du-centre_2024_ima.png
CATEGORIES:Conférences,Kestemberg
LOCATION:ASM 13\, 76 avenue Edison\, Paris\, 75013\, France
GEO:48.8304037;2.358436900000015
X-APPLE-STRUCTURED-LOCATION;VALUE=URI;X-ADDRESS=76 avenue Edison\, Paris\, 
 75013\, France;X-APPLE-RADIUS=100;X-TITLE=ASM 13:geo:48.8304037,2.35843690
 0000015
END:VEVENT
BEGIN:VTIMEZONE
TZID:Europe/Paris
X-LIC-LOCATION:Europe/Paris
BEGIN:DAYLIGHT
DTSTART:20240331T030000
TZOFFSETFROM:+0100
TZOFFSETTO:+0200
TZNAME:CEST
END:DAYLIGHT
END:VTIMEZONE
END:VCALENDAR