
BEGIN:VCALENDAR
VERSION:2.0
PRODID:-//wp-events-plugin.com//7.2.3.1//EN
TZID:Europe/Paris
X-WR-TIMEZONE:Europe/Paris
BEGIN:VEVENT
UID:367@spp.asso.fr
DTSTART;TZID=Europe/Paris:20230513T160000
DTEND;TZID=Europe/Paris:20230513T200000
DTSTAMP:20230515T073658Z
URL:https://www.spp.asso.fr/events/les-samedis-du-centre-de-psychanalyse-e
 t-de-psychotherapie-penser-peut-etre-2/
SUMMARY:Les Samedis du Centre de Psychanalyse et de Psychothérapie : Pense
 r\, peut-être #2
DESCRIPTION:Samedi 13 mai 2023\nLaurent DANON-BOILEAU : Penser\, dépenser
 \, compenser.\nAnastasia TOLIOU &amp\; Evgénia PAPATHANASIOU : La pense
 ́e groupale et le patient psychotique.\n[pdf-embedder url="https://www.sp
 p.asso.fr/wp-content/uploads/2023/02/Samedis-du-Centre-de-Psychanalyse-202
 3.pdf" title="Samedis du Centre de Psychanalyse 2023" width="100%"]
ATTACH;FMTTYPE=image/jpeg:https://www.spp.asso.fr/wp-content/uploads/2023/
 02/Samedis-du-Centre-de-Psychanalyse-2023-2_ima.jpg
CATEGORIES:Conférences
LOCATION:ASM 13\, 76\, AVENUE EDISON\,  75013 PARIS\, France
GEO:48.8304037;2.358436900000015
X-APPLE-STRUCTURED-LOCATION;VALUE=URI;X-ADDRESS=76\, AVENUE EDISON\,  75013
  PARIS\, France;X-APPLE-RADIUS=100;X-TITLE=ASM 13:geo:48.8304037,2.3584369
 00000015
END:VEVENT
BEGIN:VTIMEZONE
TZID:Europe/Paris
X-LIC-LOCATION:Europe/Paris
BEGIN:DAYLIGHT
DTSTART:20230326T030000
TZOFFSETFROM:+0100
TZOFFSETTO:+0200
TZNAME:CEST
END:DAYLIGHT
END:VTIMEZONE
END:VCALENDAR