
BEGIN:VCALENDAR
VERSION:2.0
PRODID:-//wp-events-plugin.com//7.2.3.1//EN
TZID:Europe/Paris
X-WR-TIMEZONE:Europe/Paris
BEGIN:VEVENT
UID:284@spp.asso.fr
DTSTART;TZID=Europe/Paris;VALUE=DATE:20220909
DTEND;TZID=Europe/Paris;VALUE=DATE:20220916
DTSTAMP:20220926T085254Z
URL:https://www.spp.asso.fr/events/lhistorien-sur-le-metier-conversations-
 avec-carlo-guinzburg/
SUMMARY:L'historien sur le métier : conversations avec Carlo Guinzburg
DESCRIPTION:\n\n\n\n[pdf-embedder url="https://www.spp.asso.fr/wp-content/u
 ploads/2022/03/CarloGinzburg-Cerisy2022.pdf" width="100%"]\n\nTélécharge
 r le flyer en pdf\n\n\n\n
ATTACH;FMTTYPE=image/jpeg:https://www.spp.asso.fr/wp-content/uploads/2022/
 03/Carlo-Ginzburg-Cerisy-2022.jpg
CATEGORIES:Colloques
LOCATION:Centre culturel international de Cerisy\, 2\, Le Château \, Ceris
 y-la-Salle\, 50210\, France
GEO:49.020943;-1.288347
X-APPLE-STRUCTURED-LOCATION;VALUE=URI;X-ADDRESS=2\, Le Château \, Cerisy-l
 a-Salle\, 50210\, France;X-APPLE-RADIUS=100;X-TITLE=Centre culturel intern
 ational de Cerisy:geo:49.020943,-1.288347
END:VEVENT
BEGIN:VTIMEZONE
TZID:Europe/Paris
X-LIC-LOCATION:Europe/Paris
BEGIN:DAYLIGHT
DTSTART:20220327T030000
TZOFFSETFROM:+0100
TZOFFSETTO:+0200
TZNAME:CEST
END:DAYLIGHT
END:VTIMEZONE
END:VCALENDAR