
BEGIN:VCALENDAR
VERSION:2.0
PRODID:-//wp-events-plugin.com//7.2.3.1//EN
TZID:Europe/Paris
X-WR-TIMEZONE:Europe/Paris
BEGIN:VEVENT
UID:122@spp.asso.fr
DTSTART;TZID=Europe/Paris:20190509T210000
DTEND;TZID=Europe/Paris:20190509T210000
DTSTAMP:20191124T141446Z
URL:https://www.spp.asso.fr/events/melancolie-psychiatrique-melancolie-psy
 chanalytique/
SUMMARY:Mélancolie psychiatrique\, mélancolie psychanalytique
DESCRIPTION:
ATTACH;FMTTYPE=image/jpeg:https://www.spp.asso.fr/wp-content/uploads/2019/
 04/SPP_conference_Martine-Girard_9-mai-2019.jpg
CATEGORIES:Conférences
LOCATION:Salle des conférences SPP\, 21 rue Daviel\, Paris\, 75013\, Franc
 e
GEO:48.8280054;2.3447788999999375
X-APPLE-STRUCTURED-LOCATION;VALUE=URI;X-ADDRESS=21 rue Daviel\, Paris\, 750
 13\, France;X-APPLE-RADIUS=100;X-TITLE=Salle des conférences SPP:geo:48.8
 280054,2.3447788999999375
END:VEVENT
BEGIN:VTIMEZONE
TZID:Europe/Paris
X-LIC-LOCATION:Europe/Paris
BEGIN:DAYLIGHT
DTSTART:20190331T030000
TZOFFSETFROM:+0100
TZOFFSETTO:+0200
TZNAME:CEST
END:DAYLIGHT
END:VTIMEZONE
END:VCALENDAR