
BEGIN:VCALENDAR
VERSION:2.0
PRODID:-//wp-events-plugin.com//7.2.3.1//EN
TZID:Europe/Paris
X-WR-TIMEZONE:Europe/Paris
BEGIN:VEVENT
UID:192@spp.asso.fr
DTSTART;TZID=Europe/Paris:20210123T000000
DTEND;TZID=Europe/Paris:20210123T000000
DTSTAMP:20210123T220710Z
URL:https://www.spp.asso.fr/events/nouvelles-explorations-psychanalytiques
 -dans-la-clinique/
SUMMARY:Colloque : Nouvelles explorations psychanalytiques dans la clinique
DESCRIPTION:[pdf-embedder url="https://www.spp.asso.fr/wp-content/uploads/2
 020/09/DEPLIANT_COLLOQUES_2021_297x210_web-1.pdf" title="DEPLIANT COLLOQUE
 S LYON2021"]
ATTACH;FMTTYPE=image/jpeg:https://www.spp.asso.fr/wp-content/uploads/2020/
 09/Colloque-Lyon-janvier-2021_visio_ima.jpg
CATEGORIES:Colloques,Groupe Lyonnais - Grenoble AGPsy,Province
LOCATION:Palais de la Mutualité - Lyon\, 1 place Antonin Jutard\, Lyon\, 6
 9003\, France
GEO:45.756509;4.8412479999999505
X-APPLE-STRUCTURED-LOCATION;VALUE=URI;X-ADDRESS=1 place Antonin Jutard\, Ly
 on\, 69003\, France;X-APPLE-RADIUS=100;X-TITLE=Palais de la Mutualité - L
 yon:geo:45.756509,4.8412479999999505
END:VEVENT
BEGIN:VTIMEZONE
TZID:Europe/Paris
X-LIC-LOCATION:Europe/Paris
BEGIN:STANDARD
DTSTART:20201025T020000
TZOFFSETFROM:+0200
TZOFFSETTO:+0100
TZNAME:CET
END:STANDARD
END:VTIMEZONE
END:VCALENDAR