
BEGIN:VCALENDAR
VERSION:2.0
PRODID:-//wp-events-plugin.com//7.2.3.1//EN
TZID:Europe/Paris
X-WR-TIMEZONE:Europe/Paris
BEGIN:VEVENT
UID:450@spp.asso.fr
DTSTART;TZID=Europe/Paris:20240315T090000
DTEND;TZID=Europe/Paris:20240315T170000
DTSTAMP:20240317T105738Z
URL:https://www.spp.asso.fr/events/origines-et-recommencements-retour-sur-
 les-concepts-fondamentaux-de-la-psychopathologie-de-lenfant-et-de-ladolesc
 ent/
SUMMARY:Origines et recommencements - Retour sur les concepts fondamentaux 
 de la psychopathologie de l’enfant et de l’adolescent
DESCRIPTION:\n\n\n\n\n\n\n\nÀ l’occasion de son numéro 99\, Enfances&a
 mp\;psy avant son centième numéro\, souhaite revisiter la question des
  origines dans un double mouvement régressif : de l’interrogation des 
 enfants et des adolescents sur leur origine\, à celle des praticiens sur
  l’origine des concepts avec lesquels ils exercent.\n\n\n\n\nAprès la 
 découverte de l’inconscient par Freud\, des praticiens se sont lancé
 s dans la rencontre et la psychothérapie de l’enfant et de l’adolesc
 ent. ils ont contribué à l’élaboration des grands concepts psychod
 ynamiques de leur développement. M. Klein a proposé la notion de « po
 sition dépressive »\, Winnicott celle « d’objet transitionnel »\, L
 acan « Le stade du miroir ». Les intervenants revisiteront l’histoire 
 de ces découvertes au travers des apports des différents courants the
 ́oriques\, dans une perspective de transmission aux jeunes professionnels
 \, en montrant leur pertinence pour la pratique aujourd’hui et pour les 
 recherches à venir.\n\n[pdf-embedder url="https://www.spp.asso.fr/wp-con
 tent/uploads/2024/02/Colloque-EnfancesPsy-2024.pdf" title="Colloque-Enfanc
 es&amp\;Psy-2024" width="100%"]\n\n\n\n\n&nbsp\;\n\n\n\n\n
ATTACH;FMTTYPE=image/jpeg:https://www.spp.asso.fr/wp-content/uploads/2024/
 02/Colloque-EnfancesPsy-2024_ima.jpg
CATEGORIES:Conférences
LOCATION:\, \, France
X-APPLE-STRUCTURED-LOCATION;VALUE=URI;X-ADDRESS=\, France;X-APPLE-RADIUS=10
 0;X-TITLE=:geo:0,0
END:VEVENT
BEGIN:VTIMEZONE
TZID:Europe/Paris
X-LIC-LOCATION:Europe/Paris
BEGIN:STANDARD
DTSTART:20231029T020000
TZOFFSETFROM:+0200
TZOFFSETTO:+0100
TZNAME:CET
END:STANDARD
END:VTIMEZONE
END:VCALENDAR