
BEGIN:VCALENDAR
VERSION:2.0
PRODID:-//wp-events-plugin.com//7.2.3.1//EN
TZID:Europe/Paris
X-WR-TIMEZONE:Europe/Paris
BEGIN:VEVENT
UID:64@spp.asso.fr
DTSTART;TZID=Europe/Paris:20181201T000000
DTEND;TZID=Europe/Paris:20181201T000000
DTSTAMP:20181014T100322Z
URL:https://www.spp.asso.fr/events/paul-denis-nice-2019/
SUMMARY:Conférence de Paul Denis - Nice
DESCRIPTION:Lieu à préciser à Nice
CATEGORIES:Conférences,Groupe Méditerranéen,Province
LOCATION:Nice\, Lieu à préciser\, Nice\, France
X-APPLE-STRUCTURED-LOCATION;VALUE=URI;X-ADDRESS=Lieu à préciser\, Nice\, 
 France;X-APPLE-RADIUS=100;X-TITLE=Nice:geo:0,0
END:VEVENT
BEGIN:VTIMEZONE
TZID:Europe/Paris
X-LIC-LOCATION:Europe/Paris
BEGIN:STANDARD
DTSTART:20181028T020000
TZOFFSETFROM:+0200
TZOFFSETTO:+0100
TZNAME:CET
END:STANDARD
END:VTIMEZONE
END:VCALENDAR