
BEGIN:VCALENDAR
VERSION:2.0
PRODID:-//wp-events-plugin.com//7.2.3.1//EN
TZID:Europe/Paris
X-WR-TIMEZONE:Europe/Paris
BEGIN:VEVENT
UID:353@spp.asso.fr
DTSTART;TZID=Europe/Paris:20221203T143000
DTEND;TZID=Europe/Paris:20221203T163000
DTSTAMP:20221107T101906Z
URL:https://www.spp.asso.fr/events/presentation-de-la-correspondance-integ
 rale-freud-marie-bonaparte/
SUMMARY:Présentation de la correspondance intégrale  Freud - Marie Bonapa
 rte
DESCRIPTION:La SPP invite Rémy Amouroux et Olivier Mannoni à présenter :
 \n\nLa correspondance intégrale entre Freud et Marie Bonaparte\nLa rencon
 tre sera animée par Emmanuelle Chervet et Cécile Marcoux\nPrès de 900 l
 ettres\, écrites entre 1925 et 1939\, le dernier grand corpus de correspo
 ndance freudienne encore totalement inédit paraît cet automne aux éditi
 ons Flammarion. Rémy Amouroux en a établi l’édition et l’appareil c
 ritique\, Olivier Mannoni la traduction des lettres en allemand.\n\n\nEn 1
 925\, la princesse Marie Bonaparte se rend à Vienne pour consulter le Pr 
 Sigmund Freud. Cette rencontre sera « le plus grand événement de ma vie
  »\, note l’arrière-petite-nièce de Napoléon Ier\, princesse de Grè
 ce et de Danemark.\nDurant quatorze années\, ils échangeront près de ne
 uf cents lettres jusqu’à la mort du fondateur de la psychanalyse\, en 1
 939. Conservé à la bibliothèque du Congrès à Washington\, cet ensembl
 e de lettres est le dernier grand corpus de correspondance freudienne enco
 re inédit.\nPassionnante de bout en bout\, foisonnant d’informations su
 r l’introduction de la psychanalyse en France\, cette correspondance rac
 onte un monde appelé à disparaître au cœur duquel deux protagonistes d
 es plus étonnants évoluent. Car entre la princesse venue pour soigner sa
  dépression et l’un des savants les plus influents de son siècle\, une
  amitié naît\, qui dépasse bientôt le cadre de l’analyse. Leurs éch
 anges donnent à voir un Freud tour à tour séduit\, amusé\, parfois las
 sé de cette patiente qui n’a de cesse de vouloir vivre pleinement sa vi
 e amoureuse et questionne les conceptions freudiennes sur la femme à une 
 époque où la quête du plaisir féminin reste profondément subversive.\
 n« La dernière des Bonaparte »\, comme elle aimait à se qualifier\, lo
 in d’être la disciple dévote que l’on a parfois décrite\, témoigne
  au fil des pages d’une liberté de pensée audacieuse. Quels que soient
  leurs désaccords\, Freud verra en elle une élève loyale. De fait\, ell
 e ne le trahira jamais et mettra sa fortune au service de la Société psy
 chanalytique de Paris (SPP)\, qu’elle contribua à créer et\, avec l’
 aide de nombreux soutiens\, se portera à son secours pour l’aider à qu
 itter l’Autriche nazie en 1938.\nINSCRIPTION À LA VISIOCONFÉRENCE ZOOM
ATTACH;FMTTYPE=image/jpeg:https://www.spp.asso.fr/wp-content/uploads/2022/
 10/8030da796a74dc555631a31627869ca0b28556437b557527e25299d2a806839d.jpg
CATEGORIES:Autour d'une publication
LOCATION:Visio-conférence ZOOM\, 21\, rue Daviel\, PARIS\, 75013 \, France
GEO:48.828;2.3449
X-APPLE-STRUCTURED-LOCATION;VALUE=URI;X-ADDRESS=21\, rue Daviel\, PARIS\, 7
 5013 \, France;X-APPLE-RADIUS=100;X-TITLE=Visio-conférence ZOOM:geo:48.82
 8,2.3449
END:VEVENT
BEGIN:VTIMEZONE
TZID:Europe/Paris
X-LIC-LOCATION:Europe/Paris
BEGIN:STANDARD
DTSTART:20221030T020000
TZOFFSETFROM:+0200
TZOFFSETTO:+0100
TZNAME:CET
END:STANDARD
END:VTIMEZONE
END:VCALENDAR