
BEGIN:VCALENDAR
VERSION:2.0
PRODID:-//wp-events-plugin.com//7.2.3.1//EN
TZID:Europe/Paris
X-WR-TIMEZONE:Europe/Paris
BEGIN:VEVENT
UID:479@spp.asso.fr
DTSTART;TZID=Europe/Paris:20240924T200000
DTEND;TZID=Europe/Paris:20240924T223000
DTSTAMP:20241003T074631Z
URL:https://www.spp.asso.fr/events/presentation-du-n-12-du-present-de-la-p
 sychanalyse-que-deviennent-les-repetitions/
SUMMARY:Présentation du n° 12 du Présent de la psychanalyse : « Que dev
 iennent les répétitions ? »
DESCRIPTION:\n\nAvec F. Hartmann comme discutant et M. Mikolajczyk\, coordi
 natrice du numéro et les membres du Comité de rédaction ainsi que R. Bo
 ngrand\, L. Danon-Boileau\, M. Marcellin\, F. Neau\, P. Née\, H. Trivouss
 -Widlöcher\, auteurs du numéro\n\n\n\n\n\n\nUne présentation de la revu
 e aura lieu :\n\n le mardi 24 septembre 2024 à 20 h à la Librairie Comp
 agnie 58 rue des Ecoles 75005 Paris\n\nAvec F. Hartmann comme discutant et
  M. Mikolajczyk\, coordinatrice du numéro et les membres du Comité de r
 édaction ainsi que R. Bongrand\, L. Danon-Boileau\, M. Marcellin\, F. Nea
 u\, P. Née\, H. Trivouss-Widlöcher\, auteurs du numéro\n\n_____________
 ________________________________________\n\nUne présentation de la revue 
 aura lieu :\n\nle mardi 1er septembre 2024 à 19h à la Librairie L’œi
 l cacodylate 31 rue Auguste-Comte 69002 Lyon\n\nPrécédée d’un temps m
 usical avec Dominique Serve au clavecin et Alice Piérot au violon\n\nPré
 sentation par J.-Y.Tamet\, rédacteur en chef de la revue et des auteurs A
 . Ferrand\, R. Kohler\, Ph. Morier-Genoud\, D. Serve\, H. Trivouss-Widlöc
 her ainsi que des membres du Comité de Rédaction\n\n\n\n\n\n\n\nInscript
 ion auprès du secrétariat : lapf@orange.fr | (0)1 43 29 85 11\n\n\n
ATTACH;FMTTYPE=image/jpeg:https://www.spp.asso.fr/wp-content/uploads/2024/
 07/le-present-de-la-psychanalyse_12.jpg
CATEGORIES:Autour d'une publication
LOCATION:Librairie La Compagnie\, 58\, rue des écoles\, Paris\, 75005\, Fr
 ance
X-APPLE-STRUCTURED-LOCATION;VALUE=URI;X-ADDRESS=58\, rue des écoles\, Pari
 s\, 75005\, France;X-APPLE-RADIUS=100;X-TITLE=Librairie La Compagnie:geo:0
 ,0
END:VEVENT
BEGIN:VTIMEZONE
TZID:Europe/Paris
X-LIC-LOCATION:Europe/Paris
BEGIN:DAYLIGHT
DTSTART:20240331T030000
TZOFFSETFROM:+0100
TZOFFSETTO:+0200
TZNAME:CEST
END:DAYLIGHT
END:VTIMEZONE
END:VCALENDAR