
BEGIN:VCALENDAR
VERSION:2.0
PRODID:-//wp-events-plugin.com//7.2.3.1//EN
TZID:Europe/Paris
X-WR-TIMEZONE:Europe/Paris
BEGIN:VEVENT
UID:390@spp.asso.fr
DTSTART;TZID=Europe/Paris:20230619T210000
DTEND;TZID=Europe/Paris:20230619T230000
DTSTAMP:20230626T121633Z
URL:https://www.spp.asso.fr/events/presentation-du-portail-de-la-bibliothe
 que-sigmund-freud/
SUMMARY:Présentation du portail de la Bibliothèque Sigmund Freud
DESCRIPTION:Présentation par Cécile Marcoux\, Nahil-Sarah Wehbé et Chris
 tophe Durpaire\nen visioconférence via Zoom\nQue permet le portail ?\nCom
 ment obtenir ses identifiants ?\nComment se connecter ?\nComment faire des
  recherches ?\nComment faire une réservation de livre / revue pour l’em
 prunter ?\nUsages du panier\nComment constituer une/des listes de référe
 nces ?\nComment consulter un article déjà numérisé ?\nComment faire un
 e demande de numérisation ?\nComment consulter les revues et livres du bo
 uquet psy de Cairn ?\nLes autres fonctions du portail\nINSCRIPTION\n\nID d
 e la réunion : 813 2520 2859\n\nLe portail de la BSF : bsf.spp.asso.fr
ATTACH;FMTTYPE=image/jpeg:https://www.spp.asso.fr/wp-content/uploads/2023/
 06/SPP_presentation_BSF_juin-2023.jpg
CATEGORIES:Conférences
LOCATION:Visio-conférence ZOOM\, 21\, rue Daviel\, PARIS\, 75013 \, France
GEO:48.828;2.3449
X-APPLE-STRUCTURED-LOCATION;VALUE=URI;X-ADDRESS=21\, rue Daviel\, PARIS\, 7
 5013 \, France;X-APPLE-RADIUS=100;X-TITLE=Visio-conférence ZOOM:geo:48.82
 8,2.3449
END:VEVENT
BEGIN:VTIMEZONE
TZID:Europe/Paris
X-LIC-LOCATION:Europe/Paris
BEGIN:DAYLIGHT
DTSTART:20230326T030000
TZOFFSETFROM:+0100
TZOFFSETTO:+0200
TZNAME:CEST
END:DAYLIGHT
END:VTIMEZONE
END:VCALENDAR