
BEGIN:VCALENDAR
VERSION:2.0
PRODID:-//wp-events-plugin.com//7.2.3.1//EN
TZID:Europe/Paris
X-WR-TIMEZONE:Europe/Paris
BEGIN:VEVENT
UID:336@spp.asso.fr
DTSTART;TZID=Europe/Paris:20220916T201500
DTEND;TZID=Europe/Paris:20220916T230000
DTSTAMP:20220907T123824Z
URL:https://www.spp.asso.fr/events/psyne-club-1-marianne-persine-entretien
 -avec-mme-jacqueline-schaeffer-2021/
SUMMARY:Psyné Club #1 : Marianne Persine\, Entretien avec Mme Jacqueline S
 chaeffer (2021)
DESCRIPTION:\n\n\n\nPrésentation par Marianne Persine de son film « Entre
 tien avec Mme Jacqueline Schaeffer » (2021)\n\nVoir le film “ Entretien
  avec Jacqueline Schaeffer »\n\n\n\n
ATTACH;FMTTYPE=image/jpeg:https://www.spp.asso.fr/wp-content/uploads/2021/
 12/jacqueline-schaeffer-entretien-nov-2021_ima.jpg
CATEGORIES:psyné club
LOCATION:SPP\, 21 rue Daviel\, Paris\, 75013\, France
X-APPLE-STRUCTURED-LOCATION;VALUE=URI;X-ADDRESS=21 rue Daviel\, Paris\, 750
 13\, France;X-APPLE-RADIUS=100;X-TITLE=SPP:geo:0,0
END:VEVENT
BEGIN:VTIMEZONE
TZID:Europe/Paris
X-LIC-LOCATION:Europe/Paris
BEGIN:DAYLIGHT
DTSTART:20220327T030000
TZOFFSETFROM:+0100
TZOFFSETTO:+0200
TZNAME:CEST
END:DAYLIGHT
END:VTIMEZONE
END:VCALENDAR