
BEGIN:VCALENDAR
VERSION:2.0
PRODID:-//wp-events-plugin.com//7.2.3.1//EN
TZID:Europe/Paris
X-WR-TIMEZONE:Europe/Paris
BEGIN:VEVENT
UID:359@spp.asso.fr
DTSTART;TZID=Europe/Paris:20230107T100000
DTEND;TZID=Europe/Paris:20230107T123000
DTSTAMP:20230109T134644Z
URL:https://www.spp.asso.fr/events/quand-lagir-touche-le-corps-de-lanalyst
 e-le-silence-des-affects/
SUMMARY:«Quand l'agir touche le corps de l'analyste. Le silence des affect
 s » GASPP
DESCRIPTION:Date limite d'inscription : le 6 janvier 2023 13h\n\nVous avez 
 également la possibilité de vous acquitter de votre droit d'entrée le j
 our de la conférence en vous présentant à l'amphithéâtre Pitres entre
  9h30 et 10h\n\nFormat hybride en distanciel et présentiel\n\nun lien con
 tenant l'adresse du live streaming (diffusion en direct sur Internet) vous
  sera communiqué la veille de l'évènement.\nLa conférence pourra être
  visualisée à partir de n'importe quel navigateur (PC\, MAC\, Linux\, An
 droid et iPhone)\n\nArgument\n\nLe corps entre agir et somatisation\, tel 
 était le thème porté à la réflexion lors du colloque Penser l’agir 
 à Toulouse en 2018.\n\nConsidérer les somatisations sur un versant écon
 omique\, hors sens\, du côté de l’agir au même titre que certaines ma
 nifestations comportementales\, à savoir de l’ordre de la décharge d
 ’un quantitatif inélaborable\, est l’ordinaire du psychosomaticien.\n
 \nVéritable acting-out direct selon M. de M’Uzan\, il s’agit malgré 
 tout d’une modalité expressive à prendre en compte lorsqu’elle survi
 ent dans le cadre d’une cure\, à l’intérieur même du processus entr
 e un patient et son analyste\, témoignant de la faillite transitoire ou d
 urable du fonctionnement mental. Elle peut engager les éprouvés de l’a
 nalyste et son contre-transfert au sens large afin de pouvoir donner du se
 ns à ce qui semble ne pas en avoir.\n\nJe ferai un pas de plus en intégr
 ant dans le matériel d'une séance une manifestation somatique du côté 
 de l'analyste sous la forme d'une crise de survenue brutale et imprévisib
 le\, face au silence des affects et de la vie psychique chez une patiente 
 malade somatique gravement désorganisée.\n\nCeci donnera lieu à une ré
 flexion sur les mécanismes en jeu et les modalités de réorganisation ps
 ychique.\n\n05 56 93 00 42 - gaspp.b@wanadoo.fr | 18 rue verte 33200 Borde
 aux
ATTACH;FMTTYPE=image/jpeg:https://www.spp.asso.fr/wp-content/uploads/2022/
 12/GASPP_70123_ima.jpg
CATEGORIES:Colloques,Groupe Aquitain
LOCATION:Amphithéâtre Pitres - Université de Bordeaux - Campus Victoire\
 , Rue Paul Broca\, Bordeaux\, 33000\, France
X-APPLE-STRUCTURED-LOCATION;VALUE=URI;X-ADDRESS=Rue Paul Broca\, Bordeaux\,
  33000\, France;X-APPLE-RADIUS=100;X-TITLE=Amphithéâtre Pitres - Univers
 ité de Bordeaux - Campus Victoire:geo:0,0
END:VEVENT
BEGIN:VTIMEZONE
TZID:Europe/Paris
X-LIC-LOCATION:Europe/Paris
BEGIN:STANDARD
DTSTART:20221030T020000
TZOFFSETFROM:+0200
TZOFFSETTO:+0100
TZNAME:CET
END:STANDARD
END:VTIMEZONE
END:VCALENDAR