
BEGIN:VCALENDAR
VERSION:2.0
PRODID:-//wp-events-plugin.com//7.2.3.1//EN
TZID:Europe/Paris
X-WR-TIMEZONE:Europe/Paris
BEGIN:VEVENT
UID:590@spp.asso.fr
DTSTART;TZID=Europe/Paris;VALUE=DATE:20250913
DTEND;TZID=Europe/Paris;VALUE=DATE:20250914
DTSTAMP:20250916T091622Z
URL:https://www.spp.asso.fr/events/rencontre-de-septembre-de-lapf-le-detai
 l/
SUMMARY:Rencontre de septembre de l'APF « Le détail »
DESCRIPTION:LE DETAIL\, ARGUMENT\nNous savons que de petits signes discrets
 \, surgissant dans le langage\, les rêves ou même les dessins\, portent 
 en eux une signification cachée qui appelle à l’interprétation. Pour 
 la psychanalyse\, un lapsus\, une hésitation\, l’esquisse d’un geste 
 ou le surgissement d’un fragment de rêve\, a priori insignifiants\, ré
 vèlent toujours un conflit sous-jacent\, un désir enfoui\, un affect qui
  cherche à se dire. Le travail du rêve nous l’enseigne\, aucun détail
  n’est jamais anodin ou simplement ornemental : le mot incongru\, l’im
 age fugace ou la forme inattendue portent en eux une vérité dissimulée\
 , une voie vers l’inconscient.\nIl en va de l'œuvre d’art ou du texte
  littéraire comme du rêve\, où un détail en apparence mineur\, son ins
 cription parfois marginale dans un ensemble composé\, peut subvertir l’
 ensemble de la lecture\, en déplacer le sens\, bouleverser le regard. Il 
 surprend alors comme l’irruption du plus intime\, sinon du plus dissimul
 é\, pouvant révéler la trace d’une subjectivité — celle du rêveur
 \, de l’artiste\, ou du spectateur lui-même. Dans tous les cas\, une fo
 is repéré\, le détail attire autant qu’il pourrait repousser\, par so
 n pouvoir de disloquer ce qui était tenu pour établi\, de faire écart a
 vec le tout et de mettre à jour ce qui se tenait caché.\nEn séance\, le
  langage de l’analysant est\, quant à lui\, un tissu de nuances et d’
 approximations\, toujours en quête de formulation. L’altération d’un
 e intonation ou la modulation de la voix\, les silences « anodins »\, le
 s trébuchements et les « petites catastrophes » de l’élocution compo
 sent le terreau d’où pourra surgir le sens\, un sens parfois diffracté
 \, embusqué\, inattendu ou intolérable. Élément visible\, manifeste ou
  discret\, le détail peut aussi être invisible\, voire se signaler par l
 ’absence de l’attendu. Il est un moment qui fait événement tant dans
  le tableau\, le texte ou la parole\, et qui tend irrésistiblement à arr
 êter le regard et l’écoute\, à troubler l’économie de leur parcour
 s.\nÉlément relégué à l’arrière-plan d’une toile ou dissimulé d
 ans un texte\, le détail peut venir en renverser l’équilibre de la com
 position\, quand en psychanalyse\, un signe infime peut ouvrir sur le refo
 ulé\, fissurer la surface du discours pour laisser entrevoir l’invisibl
 e. Mais quand il se met\, dans la langue\, au service de la quête d’exa
 ctitude\, quand il vise l’insensé d’une réplique à l’identique de
  la réalité\, il peut aussi être un point de fixation\, un lieu de rés
 istance\, là où le sujet s’accroche à la répétition\, à l’obsess
 ion\, à une fixation symptomatique.\nAinsi\, le détail — en psychanaly
 se comme en art et en littérature — se révèle ambivalent : à la fois
  énigme et révélation\, barrière et passage\, résistance et levier th
 érapeutique. Il ouvre une brèche vers la vérité refoulée\, et permet\
 , dans l’espace transférentiel\, l’émergence de transformations subj
 ectives. L’infime\, alors\, devient l’essentiel.\nConférenciers :  
                                      
                               Discutants :\n
 \nGeorges Didi-Huberman                          
                   Jean-Michel Lévy\n\nFrançois Villa 
                                      
                               Didier Houzel\n
 \nRené de Ceccatty                           
                                    Olivi
 a Todisco\n\n&nbsp\;\n\n&nbsp\;
ATTACH;FMTTYPE=image/jpeg:https://www.spp.asso.fr/wp-content/uploads/2025/
 07/APF-Rencontre-du-13092025_le-detail.jpg
CATEGORIES:Colloques
LOCATION:Association Quartier Notre-Dame des Champs\, 92 bis bd du Montparn
 asse\, Paris\, France
GEO:48.8426986;2.3268861000000243
X-APPLE-STRUCTURED-LOCATION;VALUE=URI;X-ADDRESS=92 bis bd du Montparnasse\,
  Paris\, France;X-APPLE-RADIUS=100;X-TITLE=Association Quartier Notre-Dame
  des Champs:geo:48.8426986,2.3268861000000243
END:VEVENT
BEGIN:VTIMEZONE
TZID:Europe/Paris
X-LIC-LOCATION:Europe/Paris
BEGIN:DAYLIGHT
DTSTART:20250330T030000
TZOFFSETFROM:+0100
TZOFFSETTO:+0200
TZNAME:CEST
END:DAYLIGHT
END:VTIMEZONE
END:VCALENDAR