
BEGIN:VCALENDAR
VERSION:2.0
PRODID:-//wp-events-plugin.com//7.2.3.1//EN
TZID:Europe/Paris
X-WR-TIMEZONE:Europe/Paris
BEGIN:VEVENT
UID:393@spp.asso.fr
DTSTART;TZID=Europe/Paris:20230624T140000
DTEND;TZID=Europe/Paris:20230624T173000
DTSTAMP:20230626T121603Z
URL:https://www.spp.asso.fr/events/rencontre-debat-le-cadre-entre-realite-
 excessive-et-virtuelle/
SUMMARY:Rencontre-débat « Le cadre entre réalité excessive et virtuelle
  »
DESCRIPTION:Au local de la SPF de 14h à 17h30\n\n\n23\, rue Campagne-Premi
 ère\n75014 Paris\n\nTél. : 01 43 22 12 13\n\n \n\nDepuis quelques anné
 es avec le terrorisme en France\, le Covid\, la guerre en Europe\, les ris
 ques climatiques\, nous sommes confrontés à une réalité sociale\, poli
 tique et culturelle excessive\, c’est-à-dire qu’elle ne fait pas part
 ie de l’ordre du monde que nous pensions être le nôtre.\nEn même temp
 s\, la pandémie de Covid a révélé l’importance de la réalité du vi
 rtuel technologique qui traverse la société et notre quotidien\, et infi
 ltre sous des formes diverses notre pratique et le cadre.\nQuel impact la 
 coexistence de ces deux réalités a-t-elle sur le cadre analytique et not
 re pratique ?\nQuels seraient les socles incontournables du cadre pour qu
 ’il puisse continuer à être un espace consistant permettant le process
 us analytique ?\nLa clinique des intervenants sera le fil conducteur de ce
  débat.\n\nIntervenants : Jean-Pierre DURIF-VAREMBONT\, Piotr KRZAKOWSKI\
 , Hélène OPPENHEIM
ATTACH;FMTTYPE=image/jpeg:https://www.spp.asso.fr/wp-content/uploads/2023/
 06/SPF_24062023_ima.jpg
CATEGORIES:Conférences
LOCATION:Société de Psychanalyse Freudienne\, 23\, rue Campagne-Première
 \, Paris\, 75014\, France
X-APPLE-STRUCTURED-LOCATION;VALUE=URI;X-ADDRESS=23\, rue Campagne-Première
 \, Paris\, 75014\, France;X-APPLE-RADIUS=100;X-TITLE=Société de Psychana
 lyse Freudienne:geo:0,0
END:VEVENT
BEGIN:VTIMEZONE
TZID:Europe/Paris
X-LIC-LOCATION:Europe/Paris
BEGIN:DAYLIGHT
DTSTART:20230326T030000
TZOFFSETFROM:+0100
TZOFFSETTO:+0200
TZNAME:CEST
END:DAYLIGHT
END:VTIMEZONE
END:VCALENDAR