
BEGIN:VCALENDAR
VERSION:2.0
PRODID:-//wp-events-plugin.com//7.2.3.1//EN
TZID:Europe/Paris
X-WR-TIMEZONE:Europe/Paris
BEGIN:VEVENT
UID:173@spp.asso.fr
DTSTART;TZID=Europe/Paris:20200122T203000
DTEND;TZID=Europe/Paris:20200122T230000
DTSTAMP:20200123T172138Z
URL:https://www.spp.asso.fr/events/rencontres-cinema-et-psychanalyse-corpo
 rate-de-nicolas-silhol/
SUMMARY:Rencontres Cinéma et Psychanalyse - « Corporate » de Nicolas Sil
 hol
DESCRIPTION:Rencontres Cinéma et Psychanalyse\nMercredi 22 Janvier 2020 à
  20h30\nStudio des Ursulines\nLes Rencontres Cinéma et Psychanalyse orga
 nisent trois fois dans l'année des projections de films suivies d'un déb
 at entre le cinéaste et le public. Animées par Amélie de Cazanove\, Leo
 poldine Lalu\, Pierre Sullivan et Bernard Touati\, elles proposent un dial
 ogue entre les deux disciplines marquées par une communauté de pensée e
 t un désir d'explorer les questions autour de la représentation.\n\nProc
 haine Rencontre Cinéma et Psychanalyse Mercredi 22 Janvier 2020 à 20h3
 0 au Studio des Ursulines\, 10 rue des Ursulines- 75005 Paris. Nous auron
 s le plaisir de présenter « Corporate » un film de Nicolas Silhol en s
 a présence.\n\nA la fois thriller psychologique et reflet d'une époque\,
  Corporate décortique les mécanismes d'une certaine forme de managemen
 t\, où les ambitions individuelles priment sur un rêve collectif. Sont a
 bordées\, les questions si actuelles de burn out et de suicide au travail
  mais c'est aussi une réflexion sur la place des femmes dans le monde imp
 itoyable de l'entreprise\, à travers le personnage d'Emilie incarné par 
 Céline Salette .\n\nMercredi 22 Janvier 2020 à 20h30\nStudio des Ursuli
 nes\n10 rue des Ursulines\n75005 Paris\n\nOuvert à tous\, sans réservati
 ons.\n\nRenseignements : cinema.psychanalyse@hotmail.fr\nProgramme sur Fa
 cebook https://m.facebook.com/Rencontres-Cinéma-et-Psychanalyse-31595577
 5117299\n\n&nbsp\;\n\n&nbsp\;
ATTACH;FMTTYPE=image/jpeg:https://www.spp.asso.fr/wp-content/uploads/2020/
 01/autour-du-cinema-contemporain_janvier-2020_300.jpg
CATEGORIES:Colloques,Paris
LOCATION:Studio des Ursulines\, 10 rue des Ursulines\, Paris\, France
GEO:48.842727;2.342067
X-APPLE-STRUCTURED-LOCATION;VALUE=URI;X-ADDRESS=10 rue des Ursulines\, Pari
 s\, France;X-APPLE-RADIUS=100;X-TITLE=Studio des Ursulines:geo:48.842727,2
 .342067
END:VEVENT
BEGIN:VTIMEZONE
TZID:Europe/Paris
X-LIC-LOCATION:Europe/Paris
BEGIN:STANDARD
DTSTART:20191027T020000
TZOFFSETFROM:+0200
TZOFFSETTO:+0100
TZNAME:CET
END:STANDARD
END:VTIMEZONE
END:VCALENDAR