
BEGIN:VCALENDAR
VERSION:2.0
PRODID:-//wp-events-plugin.com//7.2.3.1//EN
TZID:Europe/Paris
X-WR-TIMEZONE:Europe/Paris
BEGIN:VEVENT
UID:417@spp.asso.fr
DTSTART;TZID=Europe/Paris:20231202T090000
DTEND;TZID=Europe/Paris:20231202T123000
DTSTAMP:20231207T110622Z
URL:https://www.spp.asso.fr/events/rencontres-du-capa-apports-de-la-psycha
 nalyse-dans-la-clinique-adolescente/
SUMMARY:RENCONTRES du CAPA : APPORTS DE LA PSYCHANALYSE DANS LA CLINIQUE AD
 OLESCENTE
DESCRIPTION:\n« APPORTS DE LA PSYCHANALYSE DANS LA CLINIQUE ADOLESCENTE\nP
 enser les soins en institution en temps de crise... »\navec Pierre Delion
  et Paul Denis\n\n\n\n\n\n\nINSCRIPTION INDIVIDUELLE\n\nExclusivement en l
 igne avec HELLOASSO.\n\n\n\n\n\n\n\n\nInscriptions en ligne\n\n\n\n\n\n\n\
 n\n\nINSCRIPTION AU TITRE DE LA FORMATION PERMANENTE \n\nCliquez sur le l
 ien ci-dessous pour télécharger le bulletin d'inscription au format pdf.
 \n\nTélécharger le bulletin\n\n\n\n\n\n
ATTACH;FMTTYPE=image/jpeg:https://www.spp.asso.fr/wp-content/uploads/2023/
 10/Rencontres_CAPA_2023.png
CATEGORIES:Colloques
LOCATION:Espace Don Bosco\, 181 Rue Saint-François Xavier\, Gradignan\, 33
 170\, France
X-APPLE-STRUCTURED-LOCATION;VALUE=URI;X-ADDRESS=181 Rue Saint-François Xav
 ier\, Gradignan\, 33170\, France;X-APPLE-RADIUS=100;X-TITLE=Espace Don Bos
 co:geo:0,0
END:VEVENT
BEGIN:VTIMEZONE
TZID:Europe/Paris
X-LIC-LOCATION:Europe/Paris
BEGIN:STANDARD
DTSTART:20231029T020000
TZOFFSETFROM:+0200
TZOFFSETTO:+0100
TZNAME:CET
END:STANDARD
END:VTIMEZONE
END:VCALENDAR