
BEGIN:VCALENDAR
VERSION:2.0
PRODID:-//wp-events-plugin.com//7.2.3.1//EN
TZID:Europe/Paris
X-WR-TIMEZONE:Europe/Paris
BEGIN:VEVENT
UID:82@spp.asso.fr
DTSTART;TZID=Europe/Paris:20190214T121500
DTEND;TZID=Europe/Paris:20190214T134500
DTSTAMP:20181024T215510Z
URL:https://www.spp.asso.fr/events/seminaire-de-psychopathologie-psychanal
 ytique-a-grenoble-conference-de-marie-christine-jeannenot/
SUMMARY:Séminaire de psychopathologie psychanalytique à Grenoble - confé
 rence de Marie-Christine Jeannenot
DESCRIPTION:Jeudi 14 février 2019\nMarie‐Christine Jeannenot\nDu traumat
 isme dans l’hystérie au traumatisme dans les expériences catastrophiq
 ues de guerre et de l’exil\n&nbsp\;\n\nSéminaire de Psychopathologie P
 sychanalytique (cinq conférences)\nAnnée 2018‐2019\nVoir le cycle des 
 cinq conférences\n\nCe séminaire\, organisé par le bureau de l’AGPSY 
 - Association grenobloise de Psychanalyse\, revisite un concept ou une pra
 tique psychanalytique et se propose d’en préciser son actualité.\n\nIl
  est ouvert aux étudiants ainsi qu’aux professionnels de la santé et d
 u champ social\, et a lieu le jeudi de 12h15 à 13h45 à la Maison des 
 Associations (grande salle)\, 6 rue Berthe de Boissieux à Grenoble.\n\nPo
 ur ces cinq séminaires-conférences de 1h30\,\ninscription auprès d’Yv
 es Jeannenot : yves@jannenot.fr\nVoir toutes les activités de l'Associat
 ion Grenobloise de Psychanalyse
CATEGORIES:Colloques,Conférences,Groupe Lyonnais - Grenoble AGPsy,Groupe
 Lyonnais - Rhône-Alpes,Groupe Lyonnais - Savoie CEPS
LOCATION:Maison des Associations (grande salle)\, 6 rue Berthe de Boissieu
 x\, Grenoble\, France
X-APPLE-STRUCTURED-LOCATION;VALUE=URI;X-ADDRESS=6 rue Berthe de Boissieux\,
  Grenoble\, France;X-APPLE-RADIUS=100;X-TITLE=Maison des Associations (gr
 ande salle):geo:0,0
END:VEVENT
BEGIN:VTIMEZONE
TZID:Europe/Paris
X-LIC-LOCATION:Europe/Paris
BEGIN:STANDARD
DTSTART:20181028T020000
TZOFFSETFROM:+0200
TZOFFSETTO:+0100
TZNAME:CET
END:STANDARD
END:VTIMEZONE
END:VCALENDAR