
BEGIN:VCALENDAR
VERSION:2.0
PRODID:-//wp-events-plugin.com//7.2.3.1//EN
TZID:Europe/Paris
X-WR-TIMEZONE:Europe/Paris
BEGIN:VEVENT
UID:496@spp.asso.fr
DTSTART;TZID=Europe/Paris:20241014T210000
DTEND;TZID=Europe/Paris:20241014T230000
DTSTAMP:20241015T151836Z
URL:https://www.spp.asso.fr/events/seminaire-jean-cournut-lecoute-de-la-re
 ponse-du-patient-a-linterpretation-par-gilbert-diatkine/
SUMMARY:« L’écoute de la réponse du patient à l’interprétation » 
 par Gilbert DIatkine
DESCRIPTION:CSA2501 : « Les racines archaïques des addictions sexuelles 
 » Vincent Estellon\n\nSéminaire Jean Cournut - Modalités dee l'écoute 
 psychanalytique\nVisioconférence via Zoom\n\nRéservation sur boutique.sp
 p.asso.fr
ATTACH;FMTTYPE=image/jpeg:https://www.spp.asso.fr/wp-content/uploads/2022/
 12/vignette_CIP_SJC_122022.png
CATEGORIES:Conférences d'introduction à la psychanalyse
LOCATION:ZOOM\, visioconférence\, ZOOM\, -\, -\, -\, France
X-APPLE-STRUCTURED-LOCATION;VALUE=URI;X-ADDRESS=visioconférence\, ZOOM\, -
 \, -\, -\, France;X-APPLE-RADIUS=100;X-TITLE=ZOOM:geo:0,0
END:VEVENT
BEGIN:VTIMEZONE
TZID:Europe/Paris
X-LIC-LOCATION:Europe/Paris
BEGIN:DAYLIGHT
DTSTART:20240331T030000
TZOFFSETFROM:+0100
TZOFFSETTO:+0200
TZNAME:CEST
END:DAYLIGHT
END:VTIMEZONE
END:VCALENDAR