
BEGIN:VCALENDAR
VERSION:2.0
PRODID:-//wp-events-plugin.com//7.2.3.1//EN
TZID:Europe/Paris
X-WR-TIMEZONE:Europe/Paris
BEGIN:VEVENT
UID:358@spp.asso.fr
DTSTART;TZID=Europe/Paris;VALUE=DATE:20230121
DTEND;TZID=Europe/Paris;VALUE=DATE:20230123
DTSTAMP:20230125T095601Z
URL:https://www.spp.asso.fr/events/sex-lies-and-neuroscience/
SUMMARY:SEX\, LIES AND NEUROSCIENCE
DESCRIPTION:[pdf-embedder url="https://www.spp.asso.fr/wp-content/uploads/2
 022/11/IPD-2023-program.pdf" title="IPD-2023 program" width="100%"]
ATTACH;FMTTYPE=image/jpeg:https://www.spp.asso.fr/wp-content/uploads/2022/
 11/IPD-2023_ima.png
CATEGORIES:Colloques,International
LOCATION:Hotel Quirinale\, Via Nazionale 7\, Rome\, 000184\, Italie
X-APPLE-STRUCTURED-LOCATION;VALUE=URI;X-ADDRESS=Via Nazionale 7\, Rome\, 00
 0184\, Italie;X-APPLE-RADIUS=100;X-TITLE=Hotel Quirinale:geo:0,0
END:VEVENT
BEGIN:VTIMEZONE
TZID:Europe/Paris
X-LIC-LOCATION:Europe/Paris
BEGIN:STANDARD
DTSTART:20221030T020000
TZOFFSETFROM:+0200
TZOFFSETTO:+0100
TZNAME:CET
END:STANDARD
END:VTIMEZONE
END:VCALENDAR