
BEGIN:VCALENDAR
VERSION:2.0
PRODID:-//wp-events-plugin.com//7.2.3.1//EN
TZID:Europe/Paris
X-WR-TIMEZONE:Europe/Paris
BEGIN:VEVENT
UID:264@spp.asso.fr
DTSTART;TZID=Europe/Paris:20211118T210000
DTEND;TZID=Europe/Paris:20211118T230000
DTSTAMP:20211116T141706Z
URL:https://www.spp.asso.fr/events/soiree-autour-de-la-sexualite-parlee-da
 ns-la-seance/
SUMMARY:Soirée autour de « La sexualité parlée dans la séance »
DESCRIPTION:"La sexualité parlée en séance" ouvrage publié par SPP-
 Édition à partir des textes des Rencontres de la SPP 2021\n\nSoirée a
 ̀ 21h en visioconférence sur Zoom\n\nAnimateurs\nJean-Louis Baldacci\, 
 Emmanuelle Chervet\, Isabelle Martin-Kamieniak\, directeurs de l’ouvrage
 \, avec Cécile Marcoux\, conservatrice de la BSF\,\n\nEn présence des 
 auteurs\nChristine Bouchard\, Martine Pichon-Damesin\, Claire Maurice\, Ev
 elyne Chauvet\, Guy Cabrol.\n\nCécile Marcoux introduira la soirée par
  une présentation de SPP-Edition.\nLa psychanalyse des premières géné
 rations a beaucoup développé le thème sexuel. Actuellement au contraire
 \, les préoccupations narcissiques et traumatiques semblent l’avoir rel
 égué au second plan. La réflexion menée lors des Rencontres de la SPP 
 2021 a montré que ce silence apparent recouvre des réalités contrastée
 s : une parole en séance intensément sexualisée réalise une saturation
 \, tandis qu’une parole inhibée laisse soudain échapper sous des dégu
 isements un sexuel infantile capable de s’élaborer. Le mode de pensée 
 et les interventions de l’analyste varient selon la valeur fonctionnelle
  du sexuel ainsi exhibé ou réservé à l’intimité. Les textes propos
 és dans ce volume en sont issus\, avec deux textes historiques\, l’un d
 ’André Green et l’autre de Jean Cournut.\nPour vous inscrire\, clique
 z ici sur ce lien Zoom — ID Réunion : 862 0623 9903
ATTACH;FMTTYPE=image/jpeg:https://www.spp.asso.fr/wp-content/uploads/2021/
 09/soiree-autour-des-publications_ima-181121_06.jpg
CATEGORIES:Autour d'une publication
LOCATION:https://1sj0o.r.ag.d.sendibm3.com/mk/cl/f/x3tc8Ureh2MzKkYYBv3Kf9R3
 ZvFDlsdHM2xJpv6Qf8b0SZdsitVWETKyeJJRm1BOTcdLIzDOHnUuOFvxVtcEMuE3CUwdxTxdAY
 cuyOCAk1OFiJK35HhKFyY5zSZaKKbP75mjHy38Rf8u68zBgeHn0V_7Sv_kbO7-s0-27SkHBN_1
 _w-pozIkMk5HhgdVecE-SRBK6aJHu9liUEi3vKIfR-UP2pEIh9ncz-8qQpeDjVYwBWxX07adIG
 RZNAdglCfYtx39Pj0Ooj_FyuNY_v0
END:VEVENT
BEGIN:VTIMEZONE
TZID:Europe/Paris
X-LIC-LOCATION:Europe/Paris
BEGIN:STANDARD
DTSTART:20211031T020000
TZOFFSETFROM:+0200
TZOFFSETTO:+0100
TZNAME:CET
END:STANDARD
END:VTIMEZONE
END:VCALENDAR