
BEGIN:VCALENDAR
VERSION:2.0
PRODID:-//wp-events-plugin.com//7.2.3.1//EN
TZID:Europe/Paris
X-WR-TIMEZONE:Europe/Paris
BEGIN:VEVENT
UID:457@spp.asso.fr
DTSTART;TZID=Europe/Paris:20240620T210000
DTEND;TZID=Europe/Paris:20240620T230000
DTSTAMP:20240328T100641Z
URL:https://www.spp.asso.fr/events/soiree-autour-dune-publication-le-fil-r
 ouge-depasser-les-bornes-le-paradoxe-du-sexuel/
SUMMARY:Soirée autour d'une publication\, Le Fil rouge : « Dépasser les 
 bornes - Le paradoxe du sexuel »
DESCRIPTION:« Dépasser les bornes - Le paradoxe du sexuel »\nde Jean-Lou
 is Baldacci\nDiscutante : Laurent Danon-Boileau\nLe sexuel est au foyer m
 ême de ce qui organise le psychisme. Il s’oppose à la reproduction de 
 l’identique comme à la mort psychique. Il pousse au dépassement des li
 mites. Le sexuel est paradoxal\, et se développe dans un jeu de contradic
 tions et d’oppositions animant les mouvements de la psyché..\nAu fil de
  l’ouvrage\, Jean-Louis Baldacci mêle réflexion théorique et question
 s techniques fondamentales que nous nous posons tous dans notre pratique p
 sychanalytique. Il nous permet de comprendre en quoi il est important que 
 l’analyste parvienne à osciller entre transgression et orthodoxie\, pou
 r retrouver la vitalité de la sexualité infantile et équilibrer les for
 ces de destruction. Mais le sexuel pose aussi plusieurs questions cruciale
 s\, parmi lesquelles l’opposition sexualisation/désexualisation\, la su
 blimation\, le transfert sur la parole…/span&gt\;\nINSCRIPTION
ATTACH;FMTTYPE=image/jpeg:https://www.spp.asso.fr/wp-content/uploads/2024/
 03/SPP-FOCUS_Fil-rouge_juin-2024.jpg
CATEGORIES:Autour d'une publication
LOCATION:Visio-conférence ZOOM\, 21\, rue Daviel\, PARIS\, 75013 \, France
GEO:48.828;2.3449
X-APPLE-STRUCTURED-LOCATION;VALUE=URI;X-ADDRESS=21\, rue Daviel\, PARIS\, 7
 5013 \, France;X-APPLE-RADIUS=100;X-TITLE=Visio-conférence ZOOM:geo:48.82
 8,2.3449
END:VEVENT
BEGIN:VTIMEZONE
TZID:Europe/Paris
X-LIC-LOCATION:Europe/Paris
BEGIN:DAYLIGHT
DTSTART:20240331T030000
TZOFFSETFROM:+0100
TZOFFSETTO:+0200
TZNAME:CEST
END:DAYLIGHT
END:VTIMEZONE
END:VCALENDAR