
BEGIN:VCALENDAR
VERSION:2.0
PRODID:-//wp-events-plugin.com//7.2.3.1//EN
TZID:Europe/Paris
X-WR-TIMEZONE:Europe/Paris
BEGIN:VEVENT
UID:394@spp.asso.fr
DTSTART;TZID=Europe/Paris:20230921T210000
DTEND;TZID=Europe/Paris:20230921T230000
DTSTAMP:20230908T091121Z
URL:https://www.spp.asso.fr/events/soiree-des-debats-la-distance/
SUMMARY:Soirée des Débats "La distance"
DESCRIPTION:Le lien zoom pour l'inscription : https://us02web.zoom.us/meeti
 ng/register/tZAsce-oqjgpEtwjhjDZZ8huFhexhVcRjpm3\nLa publication sur le si
 te des PUF : www.puf.com
ATTACH;FMTTYPE=image/jpeg:https://www.spp.asso.fr/wp-content/uploads/2023/
 06/SPP_Vignettes-FOCUS_distance.jpg
CATEGORIES:Autour d'une publication
LOCATION:Visio-conférence ZOOM\, 21\, rue Daviel\, PARIS\, 75013 \, France
GEO:48.828;2.3449
X-APPLE-STRUCTURED-LOCATION;VALUE=URI;X-ADDRESS=21\, rue Daviel\, PARIS\, 7
 5013 \, France;X-APPLE-RADIUS=100;X-TITLE=Visio-conférence ZOOM:geo:48.82
 8,2.3449
END:VEVENT
BEGIN:VTIMEZONE
TZID:Europe/Paris
X-LIC-LOCATION:Europe/Paris
BEGIN:DAYLIGHT
DTSTART:20230326T030000
TZOFFSETFROM:+0100
TZOFFSETTO:+0200
TZNAME:CEST
END:DAYLIGHT
END:VTIMEZONE
END:VCALENDAR