
BEGIN:VCALENDAR
VERSION:2.0
PRODID:-//wp-events-plugin.com//7.2.3.1//EN
TZID:Europe/Paris
X-WR-TIMEZONE:Europe/Paris
BEGIN:VEVENT
UID:374@spp.asso.fr
DTSTART;TZID=Europe/Paris:20230330T210000
DTEND;TZID=Europe/Paris:20230330T233000
DTSTAMP:20230314T124425Z
URL:https://www.spp.asso.fr/events/soiree-publications-de-la-spp-desillusi
 on/
SUMMARY:Soirée publications de la SPP : « Désillusion »
DESCRIPTION:Soirée de présentation de la dernière publication des Débat
 s en psychanalyse « Désillusion » en visioconférence.\n\nLien de parti
 ciptation 
ATTACH;FMTTYPE=image/jpeg:https://www.spp.asso.fr/wp-content/uploads/2023/
 03/SPP_Vignettes-FOCUS_desillusion_30032023-2.jpg
CATEGORIES:Débats
LOCATION:Visio-conférence ZOOM\, 21\, rue Daviel\, PARIS\, 75013 \, France
GEO:48.828;2.3449
X-APPLE-STRUCTURED-LOCATION;VALUE=URI;X-ADDRESS=21\, rue Daviel\, PARIS\, 7
 5013 \, France;X-APPLE-RADIUS=100;X-TITLE=Visio-conférence ZOOM:geo:48.82
 8,2.3449
END:VEVENT
BEGIN:VTIMEZONE
TZID:Europe/Paris
X-LIC-LOCATION:Europe/Paris
BEGIN:DAYLIGHT
DTSTART:20230326T030000
TZOFFSETFROM:+0100
TZOFFSETTO:+0200
TZNAME:CEST
END:DAYLIGHT
END:VTIMEZONE
END:VCALENDAR