
BEGIN:VCALENDAR
VERSION:2.0
PRODID:-//wp-events-plugin.com//7.2.3.1//EN
TZID:Europe/Paris
X-WR-TIMEZONE:Europe/Paris
BEGIN:VEVENT
UID:380@spp.asso.fr
DTSTART;TZID=Europe/Paris:20230615T210000
DTEND;TZID=Europe/Paris:20230615T230000
DTSTAMP:20230406T140144Z
URL:https://www.spp.asso.fr/events/soiree-publications-fil-rouge/
SUMMARY:Soirée Publications « Fil rouge »
DESCRIPTION:Psychanalyse et littérature \n\nEn hommage à Michel Schneider
  Autour de son livre « Lu et entendu » Le fil rouge\, PUF\, 2013 \n\n« 
 Les écrivains sont de précieux alliés et il faut placer bien haut leur 
 témoignage (…) ils nous devancent de beaucoup… » écrivait Freud.\nM
 ichel Schneider\, écrivain et psychanalyste\, qui se décrivait comme « 
 l’homme aux livres »\, à partir de ses lectures— Henry James\, Nabok
 ov\, Pessoa\, Proust\, Rancé\, Schnitzler — a ouvert de lumineuses pers
 pectives.\n\nIntroduction par Catherine Ducarre et Paul Denis\, exposés p
 ar André Beetschen\, Membre titulaire de l’Association psychanalytique 
 de France et Laurence Aubry\, membre de la Société psychanalytique de Pa
 ris\, Maître de conférence en littérature et linguistique à l’Univer
 sité de Perpignan.\n\nEn visioconférence Zoom : INSCRIPTION 
ATTACH;FMTTYPE=image/jpeg:https://www.spp.asso.fr/wp-content/uploads/2023/
 04/SPP_Vignettes-FOCUS_Schneider_15062023.jpg
CATEGORIES:Autour d'une publication
LOCATION:Visio-conférence ZOOM\, 21\, rue Daviel\, PARIS\, 75013 \, France
GEO:48.828;2.3449
X-APPLE-STRUCTURED-LOCATION;VALUE=URI;X-ADDRESS=21\, rue Daviel\, PARIS\, 7
 5013 \, France;X-APPLE-RADIUS=100;X-TITLE=Visio-conférence ZOOM:geo:48.82
 8,2.3449
END:VEVENT
BEGIN:VTIMEZONE
TZID:Europe/Paris
X-LIC-LOCATION:Europe/Paris
BEGIN:DAYLIGHT
DTSTART:20230326T030000
TZOFFSETFROM:+0100
TZOFFSETTO:+0200
TZNAME:CEST
END:DAYLIGHT
END:VTIMEZONE
END:VCALENDAR