
BEGIN:VCALENDAR
VERSION:2.0
PRODID:-//wp-events-plugin.com//7.2.3.1//EN
TZID:Europe/Paris
X-WR-TIMEZONE:Europe/Paris
BEGIN:VEVENT
UID:119@spp.asso.fr
DTSTART;TZID=Europe/Paris:20190407T170000
DTEND;TZID=Europe/Paris:20190407T210000
DTSTAMP:20190412T164329Z
URL:https://www.spp.asso.fr/events/webinaire-le-modele-francais-de-la-psyc
 hanalyse/
SUMMARY:Webinaire - Le modèle français de la psychanalyse
DESCRIPTION:Les spécificités de la psychanalyse française\nLe modèle fr
 ançais de la psychanalyse\n7 avril 2019 à 17:00\n\navec Bernard Chervet 
 et Patrick Guyomard\n\nLa formation telle qu’elle fut organisée en 1925
  à l'Institut psychanalytique de Berlin par Eitingon fut adoptée par l
 ’API. Puis d'autres modèles de formation à la psychanalyse ont été p
 roposés.\n- Pourquoi le second modèle reconnu par l’API est-il né en 
 France ?\n- Pourquoi le premier modèle n’a-t-il pas fait l’objet d
 ’évolutions ?\n- Peut-on penser que chaque modèle soutient des qualit
 és différentes qui manqueraient à l’autre ?\n- Le modèle inventé p
 ar Lacan hors API (scansion et « passe ») a-t-il la valeur d'un retour d
 u dehors d’un dénié par les modèles précédents\, ou est-il une tent
 ative d’échapper ou de renforcer le transfert maître-élève propre à
  toute formation\, ou le rapport aux aïeux impliqué dans la transmission
  ?\n- Cette question ne concerne-t-elle que les analyses des futurs analys
 tes ou la cure psychanalytique en tant que telle\, donc tous les patients
  ?\n- Quels rapports ces modèles entretiennent-ils avec la méthode psyc
 hanalytique qui\, sous l’égide de la règle fondamentale induit les deu
 x modes de fonctionnement de séance favorables à l’émergence et à l
 ’installation de l’inconscient\, la libre association et l’attention
  en égale suspens.\nPour tenter de répondre à ces questions il est néc
 essaire de revisiter la naissance du modèle français. C’est au moment 
 où il s’est organisé que s’est produite la scission de la SPP autour
  d’un conflit majeur entre un modèle universitaire\, un modèle médica
 l\, un modèle basé sur la cure individuelle et les supervisions\, et un 
 modèle intégrant la scansion.\n\nD’autres controverses sont venues se 
 greffer sur celle des modèles : celles de l’analyse profane\, de l’an
 alyse didactique\, des conditions et critères pour devenir analyste (le 
 « tout divan »)\, de la formation préalable et de celle en cours de cur
 sus\, des critères du protocole : le nombre de séances\, leur durée\, l
 e paiement\, etc\n\nNous avons invité pour dialoguer avec nous tous deu
 x éminents analystes ayant travaillé ces questions Bernard Chervet et 
 Patrick Guyomard.\n\nCe webinaire est ouvert aux analystes de l'IPA et aux
  AEF.\nPour s'inscrire\, aller aux pages réservées aux membres de la SPP
 \, ou contacter directemnt les organisatrices : Marilia Aisenstein (marili
 a.aisenstein@gmail.com) ou Eléana Mylona (e.mylona@orange.fr)\n
ATTACH;FMTTYPE=image/jpeg:https://www.spp.asso.fr/wp-content/uploads/2019/
 03/SPP_webinaire_avril_2019.jpg
CATEGORIES:Conférences
END:VEVENT
BEGIN:VTIMEZONE
TZID:Europe/Paris
X-LIC-LOCATION:Europe/Paris
BEGIN:DAYLIGHT
DTSTART:20190331T030000
TZOFFSETFROM:+0100
TZOFFSETTO:+0200
TZNAME:CEST
END:DAYLIGHT
END:VTIMEZONE
END:VCALENDAR